BEGIN:VCALENDAR
VERSION:2.0
PRODID:-//Funding Arts Broward - ECPv6.15.12.2//NONSGML v1.0//EN
CALSCALE:GREGORIAN
METHOD:PUBLISH
X-WR-CALNAME:Funding Arts Broward
X-ORIGINAL-URL:https://fundingartsbroward.org
X-WR-CALDESC:Events for Funding Arts Broward
REFRESH-INTERVAL;VALUE=DURATION:PT1H
X-Robots-Tag:noindex
X-PUBLISHED-TTL:PT1H
BEGIN:VTIMEZONE
TZID:UTC
BEGIN:STANDARD
TZOFFSETFROM:+0000
TZOFFSETTO:+0000
TZNAME:UTC
DTSTART:20250101T000000
END:STANDARD
END:VTIMEZONE
BEGIN:VEVENT
DTSTART;TZID=UTC:20260402T190000
DTEND;TZID=UTC:20260426T170000
DTSTAMP:20260421T123948
CREATED:20260402T200140Z
LAST-MODIFIED:20260402T200240Z
UID:10000589-1775156400-1777222800@fundingartsbroward.org
SUMMARY:FAB Grantee Program: Island City Stage Presents: Everything Beautiful Happens at Night
DESCRIPTION:Ezra is a celebrated children’s book author. Nancy is his fiercely loyal editor. Their creative partnership has shaped stories that delight generations. But when writer’s block pushes Ezra far past deadlines to deliver his latest book\, a new voice enters the conversation\, inspiring a controversial ending to Chipmunk and Squirrel\, and testing the limits of his friendship with Nancy. \nFrom writer Ted Malawer (Red\, White\, & Royal Blue)\, Carbonell and Silver Palm Award Winning director Bruce Linser\, and featuring stunning illustrations by multi-award-winning artist Bong Redila\, Everything Beautiful Happens at Night is a tender\, funny\, and moving story about the life you have\, the life you want\, and who stays when the world gets quiet. \nWhere:\nIsland City Stage\n2304 N. Dixie Hwy.\nWilton Manors\, FL 33305\nWhen:\nThursday\, April 2\, 2026 at 7:00pm through Sunday\, April 26\, 2026 at 5:00pm\nCost: \n$45-$62\nTickets:\nTicket prices vary. CLICK HERE to purchase through Island City Stage
URL:https://fundingartsbroward.org/event/fab-grantee-program-island-city-stage-presents-everything-beautiful-happens-at-night-2/2026-04-02/1/
LOCATION:Island City Stage\, 2304 N Dixie Highway\, Wilton Manors\, Florida
CATEGORIES:FAB Grantee Program,FAB Member Event,Purchase Event Tickets
ATTACH;FMTTYPE=image/png:https://fundingartsbroward.org/wp-content/uploads/2026/03/everything-beautiful-happens-at-night.png
END:VEVENT
BEGIN:VEVENT
DTSTART;TZID=UTC:20260423T190000
DTEND;TZID=UTC:20260423T210000
DTSTAMP:20260421T123948
CREATED:20260402T200140Z
LAST-MODIFIED:20260402T200240Z
UID:10000604-1776970800-1776978000@fundingartsbroward.org
SUMMARY:FAB Grantee Program: Island City Stage Presents: Everything Beautiful Happens at Night
DESCRIPTION:Ezra is a celebrated children’s book author. Nancy is his fiercely loyal editor. Their creative partnership has shaped stories that delight generations. But when writer’s block pushes Ezra far past deadlines to deliver his latest book\, a new voice enters the conversation\, inspiring a controversial ending to Chipmunk and Squirrel\, and testing the limits of his friendship with Nancy. \nFrom writer Ted Malawer (Red\, White\, & Royal Blue)\, Carbonell and Silver Palm Award Winning director Bruce Linser\, and featuring stunning illustrations by multi-award-winning artist Bong Redila\, Everything Beautiful Happens at Night is a tender\, funny\, and moving story about the life you have\, the life you want\, and who stays when the world gets quiet. \nWhere:\nIsland City Stage\n2304 N. Dixie Hwy.\nWilton Manors\, FL 33305\nWhen:\nThursday\, April 2\, 2026 at 7:00pm through Sunday\, April 26\, 2026 at 5:00pm\nCost: \n$45-$62\nTickets:\nTicket prices vary. CLICK HERE to purchase through Island City Stage
URL:https://fundingartsbroward.org/event/fab-grantee-program-island-city-stage-presents-everything-beautiful-happens-at-night-2/2026-04-23/
LOCATION:Island City Stage\, 2304 N Dixie Highway\, Wilton Manors\, Florida
CATEGORIES:FAB Grantee Program,FAB Member Event,Purchase Event Tickets
ATTACH;FMTTYPE=image/png:https://fundingartsbroward.org/wp-content/uploads/2026/03/everything-beautiful-happens-at-night.png
END:VEVENT
BEGIN:VEVENT
DTSTART;TZID=UTC:20260423T190000
DTEND;TZID=UTC:20260423T210000
DTSTAMP:20260421T123948
CREATED:20260413T180912Z
LAST-MODIFIED:20260413T184212Z
UID:10000730-1776970800-1776978000@fundingartsbroward.org
SUMMARY:FAB Grantee Program: Art Prevails Project Presents: Our Voices: Festival Of Words
DESCRIPTION:Celebrate the wonder of words and a love for literacy and literature.\n\n\n\n\n\n\n\n\n\n\nThrough celebrating literature and uplifting literacy\, Our Voices: Festival Of Words’ aim is to provide the local community with an annual space to engage with books and writers with a hope to impact\, not only quality of life\, but directly combat the cycle of illiteracy by creating a content-rich environment for all community members. \n\n\n\n\n\n\n\n\n\n\n\n\n\n\n\n\n\n\n\n\n2026 Lineup of Events\n4 events over 3 days – Our Voices: Festival of Words celebrates the power of words with something that everyone can enjoy.\n\n\n\n\n\n\n\n\n\n\n\n \nDay 1- 4/23: LIT LOUNGE\n\n\n\n\n\n\n\n\n\n\n\nOpening Reception and Artist Showcase featuring local and regional writers\, poets and musicians. \nWhere:\nThe African American Research Library and Cultural Center\nThe Lit Lounge\n2560 Sistrunk Boulevard\nFort Lauderdale\, FL 33311\nWhen:\nThursday\, April 23\, 2026 at 7:00 pm\nCost: \n$30-$40\nTickets:\nTicket prices vary. CLICK HERE to purchase through Art Prevails Project. \nAdditional Events: \nDay 2- 4/24: BOOK FAIR\nDay 3 -4/25: AN EVENING WITH aja monet\nDay 3- 4/25: FESTIVAL OF WORDS \n#ourvoices2026 #nonprofit #partner #sponsor
URL:https://fundingartsbroward.org/event/fab-grantee-program-art-prevails-project-presents-our-voices-festival-of-words/
LOCATION:African-American Research Library and Cultural Center (AARLCC)\, 2650 Sistrunk Blvd.\, Fort Lauderale\, FL\, 33311
CATEGORIES:FAB Grantee Program,FAB Member Event,Purchase Event Tickets
ATTACH;FMTTYPE=image/jpeg:https://fundingartsbroward.org/wp-content/uploads/2026/04/Our-Voices-e1776102669639.jpeg
END:VEVENT
BEGIN:VEVENT
DTSTART;TZID=UTC:20260424T200000
DTEND;TZID=UTC:20260424T220000
DTSTAMP:20260421T123948
CREATED:20260402T200140Z
LAST-MODIFIED:20260402T200240Z
UID:10000605-1777060800-1777068000@fundingartsbroward.org
SUMMARY:FAB Grantee Program: Island City Stage Presents: Everything Beautiful Happens at Night
DESCRIPTION:Ezra is a celebrated children’s book author. Nancy is his fiercely loyal editor. Their creative partnership has shaped stories that delight generations. But when writer’s block pushes Ezra far past deadlines to deliver his latest book\, a new voice enters the conversation\, inspiring a controversial ending to Chipmunk and Squirrel\, and testing the limits of his friendship with Nancy. \nFrom writer Ted Malawer (Red\, White\, & Royal Blue)\, Carbonell and Silver Palm Award Winning director Bruce Linser\, and featuring stunning illustrations by multi-award-winning artist Bong Redila\, Everything Beautiful Happens at Night is a tender\, funny\, and moving story about the life you have\, the life you want\, and who stays when the world gets quiet. \nWhere:\nIsland City Stage\n2304 N. Dixie Hwy.\nWilton Manors\, FL 33305\nWhen:\nThursday\, April 2\, 2026 at 7:00pm through Sunday\, April 26\, 2026 at 5:00pm\nCost: \n$45-$62\nTickets:\nTicket prices vary. CLICK HERE to purchase through Island City Stage
URL:https://fundingartsbroward.org/event/fab-grantee-program-island-city-stage-presents-everything-beautiful-happens-at-night-2/2026-04-24/
LOCATION:Island City Stage\, 2304 N Dixie Highway\, Wilton Manors\, Florida
CATEGORIES:FAB Grantee Program,FAB Member Event,Purchase Event Tickets
ATTACH;FMTTYPE=image/png:https://fundingartsbroward.org/wp-content/uploads/2026/03/everything-beautiful-happens-at-night.png
END:VEVENT
BEGIN:VEVENT
DTSTART;TZID=UTC:20260425T110000
DTEND;TZID=UTC:20260425T170000
DTSTAMP:20260421T123948
CREATED:20260413T183323Z
LAST-MODIFIED:20260413T184549Z
UID:10000732-1777114800-1777136400@fundingartsbroward.org
SUMMARY:FAB Grantee Program: Art Prevails Project Presents: Our Voices: Festival Of Words
DESCRIPTION:Celebrate the wonder of words and a love for literacy and literature.\n\n\n\n\n\n\n\n\n\n\nThrough celebrating literature and uplifting literacy\, Our Voices: Festival Of Words’ aim is to provide the local community with an annual space to engage with books and writers with a hope to impact\, not only quality of life\, but directly combat the cycle of illiteracy by creating a content-rich environment for all community members. \n\n\n\n\n\n\n\n\n\n\n\n\n\n\n\n\n\n\n\n\nThe festival showcases local writers\, creatives and world-renowned artists coming together to celebrate the power of literacy and literature.\n\n\n\n\n\n\n\n\n\n\n\n\n\n\n\nSpecial Guests include:\naja monet\nRichard Blanco\nFabienne Josaphat\nMiami Sound Choir\nWilkine Brutus \nWhose Story Is It?\nPanel Discussion with Local Journalists \nCarlton Gillispie (WLRN)\nNile Fortner (Independent Journalist)\nRaisa Habersham (Miami Herald) \nBring your blankets and chairs\, and come by any time from \n11 a.m. to 5 p.m. to enjoy: \n🎵 Live Performances\n🖌 Interactive Workshops\n📚 Panel Discussions\n🎥 Film Screenings\n🖼 Children’s Village\n🤝 Small Business Market\n🎭 Free Books\, Food Trucks\, & Beverages \n\n\n\n\n\n\n\n\n\n\n\n\n\n\n\n\n\n\n\n\n\n\n\n\n\nWhere:\nAli Cultural Arts\n353 Dr M.L.K. JR Blvd.\nPompano Beach\, FL 33360\nWhen:\nFriday\, April 25\, 2026 at 11:00 am\nCost: \nFree Event\nTickets:\nPlease CLICK HERE to register through Art Prevails Project. \nAdditional Events: \nDay 1- 4/23: LIT LOUNGE\nDay 2- 4/24: BOOK FAIR\nDay 3 -4/25: AN EVENING WITH aja monet \n#ourvoices2026 #nonprofit #partner #sponsor
URL:https://fundingartsbroward.org/event/fab-grantee-program-art-prevails-project-presents-our-voices-festival-of-words-3/
LOCATION:Ali Cultural Arts Center\, 353 Dr. M.L.K. Jr. Blvd\, Pompano Beach\, Florida\, 33060\, United States
CATEGORIES:FAB Grantee Program,FAB Member Event,Purchase Event Tickets
ATTACH;FMTTYPE=image/jpeg:https://fundingartsbroward.org/wp-content/uploads/2026/04/Our-Voices-e1776102669639.jpeg
END:VEVENT
BEGIN:VEVENT
DTSTART;TZID=UTC:20260425T140000
DTEND;TZID=UTC:20260425T150000
DTSTAMP:20260421T123948
CREATED:20260402T200140Z
LAST-MODIFIED:20260402T200240Z
UID:10000606-1777125600-1777129200@fundingartsbroward.org
SUMMARY:FAB Grantee Program: Island City Stage Presents: Everything Beautiful Happens at Night
DESCRIPTION:Ezra is a celebrated children’s book author. Nancy is his fiercely loyal editor. Their creative partnership has shaped stories that delight generations. But when writer’s block pushes Ezra far past deadlines to deliver his latest book\, a new voice enters the conversation\, inspiring a controversial ending to Chipmunk and Squirrel\, and testing the limits of his friendship with Nancy. \nFrom writer Ted Malawer (Red\, White\, & Royal Blue)\, Carbonell and Silver Palm Award Winning director Bruce Linser\, and featuring stunning illustrations by multi-award-winning artist Bong Redila\, Everything Beautiful Happens at Night is a tender\, funny\, and moving story about the life you have\, the life you want\, and who stays when the world gets quiet. \nWhere:\nIsland City Stage\n2304 N. Dixie Hwy.\nWilton Manors\, FL 33305\nWhen:\nThursday\, April 2\, 2026 at 7:00pm through Sunday\, April 26\, 2026 at 5:00pm\nCost: \n$45-$62\nTickets:\nTicket prices vary. CLICK HERE to purchase through Island City Stage
URL:https://fundingartsbroward.org/event/fab-grantee-program-island-city-stage-presents-everything-beautiful-happens-at-night-2/2026-04-25/1/
LOCATION:Island City Stage\, 2304 N Dixie Highway\, Wilton Manors\, Florida
CATEGORIES:FAB Grantee Program,FAB Member Event,Purchase Event Tickets
ATTACH;FMTTYPE=image/png:https://fundingartsbroward.org/wp-content/uploads/2026/03/everything-beautiful-happens-at-night.png
END:VEVENT
BEGIN:VEVENT
DTSTART;TZID=UTC:20260425T190000
DTEND;TZID=UTC:20260425T210000
DTSTAMP:20260421T123948
CREATED:20260413T182053Z
LAST-MODIFIED:20260413T183945Z
UID:10000731-1777143600-1777150800@fundingartsbroward.org
SUMMARY:FAB Grantee Program: Art Prevails Project Presents: Our Voices: Festival Of Words
DESCRIPTION:Celebrate the wonder of words and a love for literacy and literature.\n\n\n\n\n\n\n\n\n\n\nThrough celebrating literature and uplifting literacy\, Our Voices: Festival Of Words’ aim is to provide the local community with an annual space to engage with books and writers with a hope to impact\, not only quality of life\, but directly combat the cycle of illiteracy by creating a content-rich environment for all community members. \n\n\n\n\n\n\n\n\n\n\n\n\n\n\n\n\n\n\n\n\n2026 Lineup of Events\n4 events over 3 days – Our Voices: Festival of Words celebrates the power of words with something that everyone can enjoy.\n\n\n\n\n\n\n \nDay 2 -4/24: AN EVENING WITH aja monet\n\n\n\n\n\n\n\n\n\n\n\nA night of poetry reading\, performance and conversation with acclaimed writers in a relaxed and intimate atmosphere. \n\n\n\n\n\n\n\n\n\n\n\n\n\n\n\nWhere:\nBroward County Mail Library\n100 S. Andrews Avenue\nFort Lauderdale\, FL 33301\nWhen:\nFriday\, April 25\, 2026 at 7:00 pm\nCost: \n$30-$40\nTickets:\nTicket prices vary. CLICK HERE to purchase through Art Prevails Project. \nAdditional Events: \nDay 1- 4/23: LIT LOUNGE\nDay 2- 4/24: BOOK FAIR\nDay 3- 4/25: FESTIVAL OF WORDS \n#ourvoices2026 #nonprofit #partner #sponsor
URL:https://fundingartsbroward.org/event/fab-grantee-program-art-prevails-project-presents-our-voices-festival-of-words-2/
LOCATION:Broward County Mail Library\, 100 S. Andrews Aveneu\, Fort Lauderdale\, FL\, 33301\, United States
CATEGORIES:FAB Grantee Program,FAB Member Event,Purchase Event Tickets
ATTACH;FMTTYPE=image/jpeg:https://fundingartsbroward.org/wp-content/uploads/2026/04/Our-Voices-e1776102669639.jpeg
END:VEVENT
BEGIN:VEVENT
DTSTART;TZID=UTC:20260425T200000
DTEND;TZID=UTC:20260425T220000
DTSTAMP:20260421T123948
CREATED:20260402T200140Z
LAST-MODIFIED:20260402T200240Z
UID:10000607-1777147200-1777154400@fundingartsbroward.org
SUMMARY:FAB Grantee Program: Island City Stage Presents: Everything Beautiful Happens at Night
DESCRIPTION:Ezra is a celebrated children’s book author. Nancy is his fiercely loyal editor. Their creative partnership has shaped stories that delight generations. But when writer’s block pushes Ezra far past deadlines to deliver his latest book\, a new voice enters the conversation\, inspiring a controversial ending to Chipmunk and Squirrel\, and testing the limits of his friendship with Nancy. \nFrom writer Ted Malawer (Red\, White\, & Royal Blue)\, Carbonell and Silver Palm Award Winning director Bruce Linser\, and featuring stunning illustrations by multi-award-winning artist Bong Redila\, Everything Beautiful Happens at Night is a tender\, funny\, and moving story about the life you have\, the life you want\, and who stays when the world gets quiet. \nWhere:\nIsland City Stage\n2304 N. Dixie Hwy.\nWilton Manors\, FL 33305\nWhen:\nThursday\, April 2\, 2026 at 7:00pm through Sunday\, April 26\, 2026 at 5:00pm\nCost: \n$45-$62\nTickets:\nTicket prices vary. CLICK HERE to purchase through Island City Stage
URL:https://fundingartsbroward.org/event/fab-grantee-program-island-city-stage-presents-everything-beautiful-happens-at-night-2/2026-04-25/2/
LOCATION:Island City Stage\, 2304 N Dixie Highway\, Wilton Manors\, Florida
CATEGORIES:FAB Grantee Program,FAB Member Event,Purchase Event Tickets
ATTACH;FMTTYPE=image/png:https://fundingartsbroward.org/wp-content/uploads/2026/03/everything-beautiful-happens-at-night.png
END:VEVENT
BEGIN:VEVENT
DTSTART;TZID=UTC:20260426T170000
DTEND;TZID=UTC:20260426T190000
DTSTAMP:20260421T123948
CREATED:20260402T200140Z
LAST-MODIFIED:20260402T200240Z
UID:10000608-1777222800-1777230000@fundingartsbroward.org
SUMMARY:FAB Grantee Program: Island City Stage Presents: Everything Beautiful Happens at Night
DESCRIPTION:Ezra is a celebrated children’s book author. Nancy is his fiercely loyal editor. Their creative partnership has shaped stories that delight generations. But when writer’s block pushes Ezra far past deadlines to deliver his latest book\, a new voice enters the conversation\, inspiring a controversial ending to Chipmunk and Squirrel\, and testing the limits of his friendship with Nancy. \nFrom writer Ted Malawer (Red\, White\, & Royal Blue)\, Carbonell and Silver Palm Award Winning director Bruce Linser\, and featuring stunning illustrations by multi-award-winning artist Bong Redila\, Everything Beautiful Happens at Night is a tender\, funny\, and moving story about the life you have\, the life you want\, and who stays when the world gets quiet. \nWhere:\nIsland City Stage\n2304 N. Dixie Hwy.\nWilton Manors\, FL 33305\nWhen:\nThursday\, April 2\, 2026 at 7:00pm through Sunday\, April 26\, 2026 at 5:00pm\nCost: \n$45-$62\nTickets:\nTicket prices vary. CLICK HERE to purchase through Island City Stage
URL:https://fundingartsbroward.org/event/fab-grantee-program-island-city-stage-presents-everything-beautiful-happens-at-night-2/2026-04-26/
LOCATION:Island City Stage\, 2304 N Dixie Highway\, Wilton Manors\, Florida
CATEGORIES:FAB Grantee Program,FAB Member Event,Purchase Event Tickets
ATTACH;FMTTYPE=image/png:https://fundingartsbroward.org/wp-content/uploads/2026/03/everything-beautiful-happens-at-night.png
END:VEVENT
BEGIN:VEVENT
DTSTART;TZID=UTC:20260428T173000
DTEND;TZID=UTC:20260428T193000
DTSTAMP:20260421T123948
CREATED:20260327T213237Z
LAST-MODIFIED:20260327T213320Z
UID:10000578-1777397400-1777404600@fundingartsbroward.org
SUMMARY:FAB's Grant Reception and Grants Awards Ceremony
DESCRIPTION:Join us as we honor 45 Broward based arts organizations receiving a FAB grant award in 2027. Experience a night filled with creativity and connection as we honor talented grantees in the arts community. Featuring a reception\, awards ceremony\, and surprise performance! \nWhen: Tuesday\, April 28\, 2026\n5:30PM- 7:30PM \nWhere: Pompano Beach Cultural Center \nCost: $40 Per Person \nRSVP Here by April 23\, 2026
URL:https://fundingartsbroward.org/event/join-us-for-an-inspiring-evening-with-fabs-2027-grant-recipients/
LOCATION:Pompano Beach Cultural Center\, 50 W Atlantic Blvd\, Pompano Beach\, Florida\, 33060
CATEGORIES:FAB Grantee Program,FAB Member Event,Purchase Event Tickets
ATTACH;FMTTYPE=image/png:https://fundingartsbroward.org/wp-content/uploads/2026/03/Invitation-Celebrate-the-Arts-scaled.png
END:VEVENT
BEGIN:VEVENT
DTSTART;TZID=UTC:20260430T150000
DTEND;TZID=UTC:20260430T163000
DTSTAMP:20260421T123948
CREATED:20260410T182754Z
LAST-MODIFIED:20260410T182754Z
UID:10000706-1777561200-1777566600@fundingartsbroward.org
SUMMARY:FAB Grantee Program: New City Players Presents: Lauder Made Vol. II
DESCRIPTION:This eclectic 75 minutes of theatre will feature 5 of the best new plays by South Florida playwrights curated from our NCPLab community and celebrating the creativity\, diversity\, and culture of our greater Fort Lauderdale region. This project will amplify a diversity of voices from our community who have been working off of Broward-themed writing prompts at our monthly NCPLab event. \nWhere:\nIsland City Stage\n2304 N. Dixie Hwy.\nWilton Manors\, FL 33305\nWhen:\nThursday\, April 30\, 2026 at 8:00pm through Sunday\, May 3\, 2026 at 3:00pm\nCost:\n$30\nTickets:\nTicket prices vary. CLICK HERE to purchase through New City Players.
URL:https://fundingartsbroward.org/event/fab-grantee-program-new-city-players-presents-lauder-made-vol-ii/2026-04-30/1/
LOCATION:Island City Stage\, 2304 N Dixie Highway\, Wilton Manors\, Florida
CATEGORIES:FAB Grantee Program,FAB Member Event,Purchase Event Tickets
ATTACH;FMTTYPE=image/jpeg:https://fundingartsbroward.org/wp-content/uploads/2026/03/Lauder-Made-Vol-II-e1775845479507.jpeg
END:VEVENT
BEGIN:VEVENT
DTSTART;TZID=UTC:20260430T200000
DTEND;TZID=UTC:20260501T213000
DTSTAMP:20260421T123948
CREATED:20260410T182754Z
LAST-MODIFIED:20260410T182754Z
UID:10000707-1777579200-1777671000@fundingartsbroward.org
SUMMARY:FAB Grantee Program: New City Players Presents: Lauder Made Vol. II
DESCRIPTION:This eclectic 75 minutes of theatre will feature 5 of the best new plays by South Florida playwrights curated from our NCPLab community and celebrating the creativity\, diversity\, and culture of our greater Fort Lauderdale region. This project will amplify a diversity of voices from our community who have been working off of Broward-themed writing prompts at our monthly NCPLab event. \nWhere:\nIsland City Stage\n2304 N. Dixie Hwy.\nWilton Manors\, FL 33305\nWhen:\nThursday\, April 30\, 2026 at 8:00pm through Sunday\, May 3\, 2026 at 3:00pm\nCost:\n$30\nTickets:\nTicket prices vary. CLICK HERE to purchase through New City Players.
URL:https://fundingartsbroward.org/event/fab-grantee-program-new-city-players-presents-lauder-made-vol-ii/2026-04-30/2/
LOCATION:Island City Stage\, 2304 N Dixie Highway\, Wilton Manors\, Florida
CATEGORIES:FAB Grantee Program,FAB Member Event,Purchase Event Tickets
ATTACH;FMTTYPE=image/jpeg:https://fundingartsbroward.org/wp-content/uploads/2026/03/Lauder-Made-Vol-II-e1775845479507.jpeg
END:VEVENT
END:VCALENDAR