BEGIN:VCALENDAR
VERSION:2.0
PRODID:-//Funding Arts Broward - ECPv6.15.12.2//NONSGML v1.0//EN
CALSCALE:GREGORIAN
METHOD:PUBLISH
X-ORIGINAL-URL:https://fundingartsbroward.org
X-WR-CALDESC:Events for Funding Arts Broward
REFRESH-INTERVAL;VALUE=DURATION:PT1H
X-Robots-Tag:noindex
X-PUBLISHED-TTL:PT1H
BEGIN:VTIMEZONE
TZID:UTC
BEGIN:STANDARD
TZOFFSETFROM:+0000
TZOFFSETTO:+0000
TZNAME:UTC
DTSTART:20240101T000000
END:STANDARD
END:VTIMEZONE
BEGIN:VTIMEZONE
TZID:America/New_York
BEGIN:DAYLIGHT
TZOFFSETFROM:-0500
TZOFFSETTO:-0400
TZNAME:EDT
DTSTART:20240310T070000
END:DAYLIGHT
BEGIN:STANDARD
TZOFFSETFROM:-0400
TZOFFSETTO:-0500
TZNAME:EST
DTSTART:20241103T060000
END:STANDARD
BEGIN:DAYLIGHT
TZOFFSETFROM:-0500
TZOFFSETTO:-0400
TZNAME:EDT
DTSTART:20250309T070000
END:DAYLIGHT
BEGIN:STANDARD
TZOFFSETFROM:-0400
TZOFFSETTO:-0500
TZNAME:EST
DTSTART:20251102T060000
END:STANDARD
BEGIN:DAYLIGHT
TZOFFSETFROM:-0500
TZOFFSETTO:-0400
TZNAME:EDT
DTSTART:20260308T070000
END:DAYLIGHT
BEGIN:STANDARD
TZOFFSETFROM:-0400
TZOFFSETTO:-0500
TZNAME:EST
DTSTART:20261101T060000
END:STANDARD
END:VTIMEZONE
BEGIN:VEVENT
DTSTART;TZID=UTC:20251205T170000
DTEND;TZID=UTC:20251213T103000
DTSTAMP:20260422T110713
CREATED:20251203T205741Z
LAST-MODIFIED:20251203T213032Z
UID:10000429-1764954000-1765621800@fundingartsbroward.org
SUMMARY:Art Gallery 21 presents Mash Ups with Francie Bishop Good
DESCRIPTION:Presented by Art Gallery 21\, Incorporated at Art Gallery 21 at the Island City Cultural Center\, Wilton Manors FL \nArt Gallery 21 is pleased to present “Mash Ups\,” a striking new body of work by Francie Bishop Good\, deepening her ongoing exploration of memory\, emotional vulnerability\, and the porous boundary between observation and imagination. Drawing has long been Bishop Good’s most instinctive medium\, an anchor since childhood. \nIn this series\, she begins with traditional graphite sketches\, digitally dismantling and reassembling them. Through layered textures\, fields of color\, and unexpected juxtapositions\, the work transforms into a dreamlike terrain where figures flicker between presence and disappearance. Rooted in observation yet guided by intuition\, Bishop Good embraces accidents\, disruptions\, and ambiguity\, creating images that hover between structure and fragmentation\, intimacy and abstraction. \nMash Ups invites viewers into a space where emotion resists containment\, memory is refracted\, and the self remains fluid—unfixed and evolving. \nWhen: \n\nDec 5\, 2025 at 5:00pm – 7:00pm (Fri)\nDec 6\, 2025 at 5:00pm – 7:00pm (Sat)\nDec 12\, 2025 at 5:00pm – 7:00pm (Fri)\nDec 13\, 2025 at 10:30am – 12:00pm (Sat)\n\nWhere: Art Gallery 21 at the Island City Cultural Center\n600 NE 21 Court\,  Wilton Manors\, FL 33305 \nLearn More About FAB Founder\, Francie Bishop Good
URL:https://fundingartsbroward.org/event/art-gallery-21-presents-mash-ups-with-francie-bishop-good/
LOCATION:Florida
CATEGORIES:FAB Grantee Program,FAB Member Event,Purchase Event Tickets
ATTACH;FMTTYPE=image/jpeg:https://fundingartsbroward.org/wp-content/uploads/2025/12/event-featured-art-gallery-21-presents-mash-ups-with-francie-bishop-good-1761677031-205x300-1.jpeg
END:VEVENT
BEGIN:VEVENT
DTSTART;TZID=America/New_York:20251203T080000
DTEND;TZID=America/New_York:20251203T170000
DTSTAMP:20260422T110713
CREATED:20251203T202624Z
LAST-MODIFIED:20251203T213338Z
UID:10000428-1764748800-1764781200@fundingartsbroward.org
SUMMARY:Soulful Christmas: A Sistrunk Community Celebration
DESCRIPTION:Presented by Hued Songs at African-American Research Library and Cultural Center\, Fort Lauderdale FL \nSoulful Christmas is a vibrant\, family-friendly journey through the sounds that shaped Black holiday celebrations across the decades. \nThe African-American Research Library & Cultural Center & Hued Songs invite you to experience the magic and soul of the holiday season— inside the heart of historic Sistrunk— with an evening that brings Black Christmas traditions to life through music. \nGet ready for a vibrant journey fit for the whole family through decades of holiday music that shaped Black Christmas celebrations. Soulful Christmas is a musical homecoming for the whole family\, serving up everything from smooth R&B renditions to gospel glory\, and the joy of togetherness fill the air. Come ready to sing\, sway\, and be part of a celebration that feels like coming home. \nWhen: Friday\, December 12\, 2025 – 7:00 p.m.\nSaturday\, December 13\, 2025 – 12:00 p.m. \nWhere:  African-American Research Library & Cultural Center \nRSVP Tickets \nMade Possible By\nThis celebration comes to you thanks to: \n\nFunding Arts Broward\nThe Broward Cultural Division\nBroward County Library
URL:https://fundingartsbroward.org/event/soulful-christmas-a-sistrunk-community-celebration/
LOCATION:African-American Research Library and Cultural Center (AARLCC)\, 2650 Sistrunk Blvd.\, Fort Lauderale\, FL\, 33311
CATEGORIES:FAB Grantee Program,FAB Member Event,Purchase Event Tickets
ATTACH;FMTTYPE=image/png:https://fundingartsbroward.org/wp-content/uploads/2025/12/event-featured-soulful-christmas-a-sistrunk-community-celebration-1763407250-240x300-1.png
END:VEVENT
BEGIN:VEVENT
DTSTART;TZID=America/New_York:20251203T080000
DTEND;TZID=America/New_York:20251203T170000
DTSTAMP:20260422T110713
CREATED:20251203T194925Z
LAST-MODIFIED:20251203T213443Z
UID:10000427-1764748800-1764781200@fundingartsbroward.org
SUMMARY:Thinking Cap Theatre Presents Cymbeline
DESCRIPTION:Presented by Thinking Cap Theatre at Hollywood Central Performing Arts Center\, Hollywood FL \nOften called Shakespeare’s “kitchen sink” play for its thrilling mix of genres\, Cymbeline takes audiences on an epic journey of love\, betrayal\, forgiveness and the resilience of the human spirit.\nThinking Cap Theatre continues its bold 15th anniversary season with Cymbeline by William Shakespeare\, a rarely produced yet profoundly resonant play that fuses romance\, tragedy\, comedy and history into one dazzling story. Often called Shakespeare’s “kitchen sink” play for its thrilling mix of genres\, Cymbeline takes audiences on an epic journey of love\, betrayal\, forgiveness and the resilience of the human spirit. At its heart is Imogen\, one of Shakespeare’s most courageous heroines\, whose intelligence\, bravery and grace guide the tangled plot of forged letters\, false accusations\, mistaken identity and even severed heads toward a moving resolution of truth and reconciliation. \nWhen:\nFriday\, December 5\, 2025 | 7:00pm (OPENING)\nSaturday\, December 6\, 2025 | 7:00pm\nSunday\, December 7\, 2025 | 6:00pm\nWednesday\, December 10\, 2025 | 7:00pm\nSaturday\, December 13\, 2025 | 7:00pm\nSunday\, December 14\, 2025 | 6:00pm \nWhere: Hollywood Central Performing Arts Center \nPurchase Tickets
URL:https://fundingartsbroward.org/event/thinking-cap-theatre-presents-cymbeline/
LOCATION:Hollywood Central Performing Arts Center\, 1770 Monroe Street\, Hollywood\, 33020\, United States
CATEGORIES:FAB Grantee Program,FAB Member Event,Purchase Event Tickets
ATTACH;FMTTYPE=image/png:https://fundingartsbroward.org/wp-content/uploads/2025/12/event-featured-thinking-cap-theatre-presents-cymbeline-1761060332-300x214-1.png
END:VEVENT
BEGIN:VEVENT
DTSTART;VALUE=DATE:20250810
DTEND;VALUE=DATE:20250811
DTSTAMP:20260422T110713
CREATED:20250616T193939Z
LAST-MODIFIED:20250616T214846Z
UID:10000410-1754784000-1754870399@fundingartsbroward.org
SUMMARY:South Florida Chamber Ensemble I Season 14: Emoticoncert
DESCRIPTION:South Florida Chamber Ensemble\nSeason 14: Emoticoncert\nDiscover the innovative Emoticoncert series\, a groundbreaking interactive concert experience presented by South Florida Chamber Ensemble. This unique series features head-to-head musical battles where composers compete to best portray specific emotions\, engaging audiences in active voting and sharing their insights on each performance. Emoticoncert not only provides an exciting\, participatory event but also helps audiences connect with music on a deeper emotional level\, fostering personal growth and understanding. \nThe Emoticoncert series emphasizes the healing power of music. This season focuses on mental health awareness and inclusivity\, especially by involving children and collaborating with medical professionals to explore how music and storytelling can support emotional health across diverse communities. \nJoin us for the final of six impactful performances at prominent at the Deerfield Beach Cultural Center. Each concert explores a different emotion—ranging from calm and love to envy\, triumph\, and grief—creating an immersive experience designed to inspire\, educate\, and connect audiences of all ages. \nSupport Funding Arts Broward’s mission to enrich our community through innovative arts programs like Emoticoncert. Your donation helps us continue to produce meaningful\, health-focused arts experiences that foster emotional well-being\, community engagement\, and cultural vitality in South Florida. Invest in the arts and help us make a lasting impact on mental health awareness and artistic expression. \nWHEN\nAugust 10\, 2025\n1:00 PM – 2:00 PM \nPRICE\n$10-$15 Tickets\nChild and Senior Rate $10 \nRegister Here \nLearn More about FAB \nLearn More about SFCE\nDiscover the South Florida Chamber Ensemble\, a premier classical music group dedicated to delivering high-quality live chamber performances across Broward\, Miami\, and Palm Beach counties. Known for their exceptional artistry and engaging concerts\, they promote arts education and community outreach\, enriching South Florida’s vibrant cultural scene. Support live classical music and experience the power of chamber music with this inspiring ensemble.
URL:https://fundingartsbroward.org/event/south-florida-chamber-ensemble-season-14-emoticoncert-is-an-exploration-of-emotions-in-music/
LOCATION:Deerfield Beach Cultural Center\, 84 SE 4th Avenue\, Deerfield Beach\, FL\, 33441\, United States
CATEGORIES:FAB Grantee Program
ATTACH;FMTTYPE=image/png:https://fundingartsbroward.org/wp-content/uploads/2025/06/Copy-of-Emoticoncert-Series-2024-25-Deerfield-Christine-Pascual.png
END:VEVENT
BEGIN:VEVENT
DTSTART;VALUE=DATE:20250725
DTEND;VALUE=DATE:20250727
DTSTAMP:20260422T110713
CREATED:20250616T212059Z
LAST-MODIFIED:20250616T213053Z
UID:10000411-1753401600-1753574399@fundingartsbroward.org
SUMMARY:Art Prevails Project I The Bard in Bars
DESCRIPTION:Experience the dynamic fusion of classical literature and modern music with The Bard in Bars\, presented by Art Prevails Project. This innovative production combines some of William Shakespeare’s most compelling works with the rhythm\, energy\, and style of top Hip Hop hits\, all performed live by a talented 12-piece ensemble. \nWritten and directed by Darius V. Daughtry\, The Bard in Bars is a vibrant\, energetic journey that reimagines Shakespeare’s timeless words through the lens of Hip Hop culture. Audience members will be transported back to high school English class while grooving to live music played by a skilled ensemble of musicians\, including violins\, cellos\, and more. \nThis captivating performance brings fresh energy and creativity to Shakespeare’s classic texts\, making it a must-see for lovers of literature\, music\, and innovative arts. Whether you’re a literary scholar\, a Hip Hop fan\, or simply curious about a new way to experience Shakespeare\, **The Bard in Bars** offers something for everyone. \nSupport arts and cultural diversity in South Florida by attending this exciting event. Discover how the arts can bridge generations and genres\, inspiring new appreciation for Shakespeare’s work through the powerful rhythms of Hip Hop. Perfect for all ages\, this performance promises an unforgettable experience that celebrates creativity\, community\, and the transformative power of the arts. \n  \nWhen\nJuly 25-26\n \nWhere\nBCPA\, Amaturo  \nTickets\n$35-$59 \nLearn more about FAB \nLearn more about Art Prevails \nArt Prevails Project is proud to be the recipient of Funding Arts Broward’s prestigious Arts Access Award Grant. This multi-year grant provides vital funding to support arts education initiatives across Broward County Schools\, helping to foster creativity\, engaging youth\, and expanding access to high-quality arts programs for students of all backgrounds. \nAs a leading nonprofit arts organization in South Florida\, Art Prevails Project is dedicated to transforming lives through innovative theater\, community engagement\, and arts education. Our ongoing partnership with Funding Arts Broward enables us to bring dynamic performances\, educational workshops\, and outreach programs to schools and communities throughout Broward County. \nBy supporting arts education in Broward County Schools\, Art Prevails Project aims to cultivate the next generation of artists\, thinkers\, and community leaders. Our programs focus on arts integration\, cultural awareness\, and youth empowerment\, ensuring that all students have the opportunity to experience the transformative power of the arts. \nInvest in arts education and community enrichment—support Art Prevails Project and help us continue making a positive impact through arts access\, community engagement\, and innovative theater experiences in Broward County and beyond.
URL:https://fundingartsbroward.org/event/art-prevails-project-i-the-bard-in-bars/
LOCATION:Broward Center for the Performing Arts\, Amaturo Theatre\, 201 SW Fifth Ave\, Fort Lauderdale\, FL\, 33301\, United States
CATEGORIES:FAB Grantee Program
ATTACH;FMTTYPE=image/jpeg:https://fundingartsbroward.org/wp-content/uploads/2025/06/IMG_4708.jpeg
END:VEVENT
BEGIN:VEVENT
DTSTART;VALUE=DATE:20250711
DTEND;VALUE=DATE:20250728
DTSTAMP:20260422T110713
CREATED:20250427T212924Z
LAST-MODIFIED:20250616T203552Z
UID:10000407-1752192000-1753660799@fundingartsbroward.org
SUMMARY:New City Players | Confederates
DESCRIPTION:CONFEDERATES by Dominique Morisseau\nA Florida Premiere \nDirected by Maha McCain — \nSara risks everything to smuggle military secrets from her Confederate plantation to her Union-fighting brother. 160 years later\, Sandra watches her tenured university career unravel after a racist image appears on her office door. This fresh from off-broadway\, daringly unpredictable satire by acclaimed playwright Dominique Morisseau blends outrageous humor with sobering truths\, challenging our perceptions of progress and history. \nWHEN\nPay What You Want Preview July 11 \nShowing July 12-27\, 2025 \nPRICE\n$40-$45 Tickets\n$5-$25 Pay What You Want Preview on July 11th \nRegister Here
URL:https://fundingartsbroward.org/event/new-city-players-confederates/
LOCATION:Island City Stage\, 2304 N Dixie Highway\, Wilton Manors\, Florida
CATEGORIES:FAB Grantee Program
ATTACH;FMTTYPE=image/jpeg:https://fundingartsbroward.org/wp-content/uploads/2025/04/Events-Page-New-City-Players-Confederates-July-11.jpg
END:VEVENT
BEGIN:VEVENT
DTSTART;TZID=UTC:20250514T194500
DTEND;TZID=UTC:20250514T213000
DTSTAMP:20260422T110713
CREATED:20250426T174551Z
LAST-MODIFIED:20250426T183423Z
UID:10000401-1747251900-1747258200@fundingartsbroward.org
SUMMARY:Gold Coast Jazz - Luciana Souza Trio
DESCRIPTION:“Her voice traces a landscape of emotion that knows no boundaries.” Entertainment Weekly Grammy® winner Luciana Souza is one of Jazz’s leading singers and interpreters. Souza’s singing has been called “transcendental\, “perfect\, “and of unparalleled beauty.”  Her work as a performer transcends traditional musical boundaries\, offering solid roots in jazz\, sophisticated world music\, and an enlightened approach to new music. She has performed and recorded with greats including Herbie Hancock\, Paul Simon\, James Taylor\, Bobby McFerrin\, Maria Schneider\, Danilo Perez\, and many others. Her longstanding duo work with Brazilian guitarist Romero Lubambo has earned her accolades across the globe. \nRegister Here
URL:https://fundingartsbroward.org/event/gold-coast-jazz-luciana-souza-trio/
LOCATION:Broward Center for the Performing Arts\, Amaturo Theatre\, 201 SW Fifth Ave\, Fort Lauderdale\, FL\, 33301\, United States
CATEGORIES:FAB Grantee Program
ATTACH;FMTTYPE=image/webp:https://fundingartsbroward.org/wp-content/uploads/2025/04/Events-Page-Gold-Coast-Jazz-May-14-2025-luciana-2-Copy-jpg.webp
END:VEVENT
BEGIN:VEVENT
DTSTART;TZID=UTC:20250510T190000
DTEND;TZID=UTC:20250510T213000
DTSTAMP:20260422T110713
CREATED:20250427T211556Z
LAST-MODIFIED:20250515T211821Z
UID:10000406-1746903600-1746912600@fundingartsbroward.org
SUMMARY:Florida Singing Sons | Spring Pops Concert
DESCRIPTION:You’re invited to join us for a magical evening of music at our annual Spring Pops Concert! We are thrilled to showcase the exceptional talent of our Apprentice Choir\, Concert Choir\, Second Generation Singers\, and Chorale Soleil in a captivating season-finale performance. From classical masterpieces to contemporary favorites\, our repertoire promises to delight audiences of all ages. The concert will occur on Saturday\, May 10th\, at 7 pm in the colorful Sunshine Cathedral. Immerse yourself in an evening filled with beautiful melodies and harmonious rhythms. Bring your family and friends along for a memorable musical experience. Reserve your seats now and be part of this beautiful celebration of music and springtime joy! We look forward to sharing this special event with you.  Tickets: $10-$50 \nRegister Here
URL:https://fundingartsbroward.org/event/florida-singing-sons-spring-pops-concert/
LOCATION:Sunshine Cathedral\, 1480 SW 9th Ave\, Fort Lauderdale\, Florida\, 33315
CATEGORIES:FAB Grantee Program
ATTACH;FMTTYPE=image/png:https://fundingartsbroward.org/wp-content/uploads/2025/04/Events-Page-FL-Singing-Sons-May-10.png
END:VEVENT
BEGIN:VEVENT
DTSTART;TZID=UTC:20250510T190000
DTEND;TZID=UTC:20250510T210000
DTSTAMP:20260422T110713
CREATED:20250427T204943Z
LAST-MODIFIED:20250515T211832Z
UID:10000405-1746903600-1746910800@fundingartsbroward.org
SUMMARY:South Florida Pride Concert Band: Heroes and Villains
DESCRIPTION:The South Florida Pride Concert Band: Heroes and Villains\, presented by the Bears of South Florida. This one-night-only performance will feature Tony Award winning vocalist Frances Ruffelle and Tony and Grammy Award nominee Max von Essen. This concert will take the listeners on a journey exploring the greatest heroes of our time and as well as the most dastardly villains. From history to the silver screen and Broadway\, you will be delighted by musical themes and songs from Hercules to Darth Vader and everything in-between. \nRegister Here
URL:https://fundingartsbroward.org/event/south-florida-pride-concert-band-heroes-and-villains/
LOCATION:The Parker\, 707 NE 8th St\, Fort Lauderdale\, Florida\, 33304
CATEGORIES:FAB Grantee Program
ATTACH;FMTTYPE=image/jpeg:https://fundingartsbroward.org/wp-content/uploads/2025/04/Events-Page-S-FL-Pride-Bands-Heros-and-Villains-May-10-2025.jpg
END:VEVENT
BEGIN:VEVENT
DTSTART;TZID=UTC:20250509T200000
DTEND;TZID=UTC:20250509T220000
DTSTAMP:20260422T110713
CREATED:20250426T163346Z
LAST-MODIFIED:20250426T163346Z
UID:10000398-1746820800-1746828000@fundingartsbroward.org
SUMMARY:Dance NOW! Miami | Terra Mia/My Land
DESCRIPTION:Dance NOW! culminates its 25th Anniversary Season with Program III featuring the world premiere of “Terra Mia (My Land)”. This exploration of DNM Director Diego Salterini’s roots is an invitation for audiences to immerse themselves in the beauty\, passion\, and resilience of Italian culture. Audiences will be entranced by the sights and sounds of Italy as we travel through Salterini’s nostalgic memories of his life and his family’s history. Audiences will witness the intersection of different cultures and identities\, and the message of acceptance. The evening will also include a celebration of Dance NOW!’s quarter century of creating and presenting contemporary dance with audience favorites from the company’s history. \nTickets: $20-$40 \nRegister Here
URL:https://fundingartsbroward.org/event/dance-now-miami-terra-mia-my-land/
LOCATION:Broward Center for the Performing Arts\, Amaturo Theatre\, 201 SW Fifth Ave\, Fort Lauderdale\, FL\, 33301\, United States
CATEGORIES:FAB Grantee Program
ATTACH;FMTTYPE=image/jpeg:https://fundingartsbroward.org/wp-content/uploads/2025/04/Events-Page-Dance-Now-Miami-Terra-Mia_May-9-2025.jpg
END:VEVENT
BEGIN:VEVENT
DTSTART;TZID=UTC:20250509T193000
DTEND;TZID=UTC:20250509T203000
DTSTAMP:20260422T110713
CREATED:20250426T172633Z
LAST-MODIFIED:20250515T211848Z
UID:10000400-1746819000-1746822600@fundingartsbroward.org
SUMMARY:The Girl Choir of South Florida: Spring Concert: I Give You A Song
DESCRIPTION:For two decades\, the Girl Choir of South Florida has been a place where voices unite to create something greater than the sum of their parts. Join us for I Give You A Song\, our 20th-anniversary spring concert\, as we celebrate the music\, memories\, and friendships that define our choir. \nThis special program features a stunning variety of music—spanning genres\, cultures\, and languages\, from Greek and Finnish melodies to songs in Bemba and English—selected with input from alumni and current singers. \nAt the heart of the program is the world premiere of a newly commissioned piece by composer Mariana Romero Serra\, with lyrics by alumna Lillian Rogers\, written to honor the transformative experience of being in the choir. As always\, we will close with I Give You A Song\, the piece that has ended every spring concert for 20 years\, a cherished tradition uniting past and present. \nCome celebrate our history\, our community\, and the extraordinary young women who have brought their voices to the Girl Choir of South Florida. This will be an unforgettable evening of song\, legacy\, and joy. \nRegister Here \n 
URL:https://fundingartsbroward.org/event/the-girl-choir-of-south-florida-spring-concert-i-give-you-a-song/
LOCATION:Sunshine Cathedral\, 1480 SW 9th Ave\, Fort Lauderdale\, Florida\, 33315
CATEGORIES:FAB Grantee Program
ATTACH;FMTTYPE=image/webp:https://fundingartsbroward.org/wp-content/uploads/2025/04/Events-Page-Girl-Choir-I-Give-You-a-Song-May-9-2025.webp
END:VEVENT
BEGIN:VEVENT
DTSTART;VALUE=DATE:20250503
DTEND;VALUE=DATE:20250505
DTSTAMP:20260422T110713
CREATED:20250426T184206Z
LAST-MODIFIED:20250515T211927Z
UID:10000403-1746230400-1746403199@fundingartsbroward.org
SUMMARY:Miami City Ballet - Power Redefined. Carmen Reborn
DESCRIPTION:Three performances: May 3\, 2:00 pm and 7:30 pm and May 4\, 2:00 pm. — \nShe’s not just playing the game—she’s running it. \nMeet Carmen like you’ve never seen her before. In Annabelle Lopez Ochoa’s daring new vision\, she’s not just a seductress—she’s a strategist. Bold. Unstoppable. In control of her own fate. \n \nInspired by Hollywood blockbuster Molly’s Game\, this Carmen doesn’t wait for fate—she deals the cards. Every move is calculated\, every glance a challenge. The stakes? Power\, passion\, survival. And she never bets on anyone but herself. \nThis World Premiere is a game of desire and deception\, where power is won\, lost\, and taken. But be warned—once you enter Carmen’s world\, there’s no turning back. \nRegister Here
URL:https://fundingartsbroward.org/event/miami-city-ballet-power-redefined-carmen-reborn/
LOCATION:Florida
CATEGORIES:FAB Grantee Program
ATTACH;FMTTYPE=image/webp:https://fundingartsbroward.org/wp-content/uploads/2025/04/Events-Page-Miami-City-Ballet-Carmen-May-3-4.webp
END:VEVENT
BEGIN:VEVENT
DTSTART;VALUE=DATE:20250405
DTEND;VALUE=DATE:20250602
DTSTAMP:20260422T110713
CREATED:20250426T171101Z
LAST-MODIFIED:20250426T171322Z
UID:10000399-1743811200-1748822399@fundingartsbroward.org
SUMMARY:Art and Culture Center - Hollywood - THE BIG BANG: ARTURO E. MOSQUERA
DESCRIPTION:On view: April 5-June 1 \nRELATED PROGRAMMING \n\nMay 17: Guided Tour of the exhibition in partnership with Hollywood Artwalk\n\n\nJune 1: Final day exhibition tour including a guided Mindfulness Practice\n\nVibrant colors\, confident brushstrokes\, and rhythmic compositions embody the paintings of Arturo E. Mosquera. When looking at the work\, the texture of the paint and the saturation of the pigment come together to form a symphony of sounds in the mind of observer. Whether drawing inspiration from the natural world as in his Pandemic Landscape Series and The Grand Teton National Park Series\, from Michealangelo’s Sistine Chapel\, from Comic Books\, or from other artists that he admired\, Mosquera created a visual language that is uniquely his own. This exhibition features over 50 paintings by Mosquera\, and also includes some of the artists’ drawings\, sketchbooks and works featured in the Mosquera Collection. \nArturo E. Mosquera (1982 – 2022) Born in Memphis\, Tennessee\, lived/ worked in Miami\, FL. He attended Manchester College\, Connecticut\, where he concentrated in printmaking. Mosquera became interested in graffiti in his teens and his work\, attached to this mode of expression\, touches on dreams\, death\, love\, beauty\, friendship\, and the imagination.
URL:https://fundingartsbroward.org/event/art-and-culture-center-hollywood-the-big-bang-arturo-e-mosquera/
LOCATION:Art and Culture Center – Hollywood\, 1650 Harrison Street\, Hollywood\, Florida\, 33020
CATEGORIES:FAB Grantee Program
ATTACH;FMTTYPE=image/avif:https://fundingartsbroward.org/wp-content/uploads/2025/04/Events-Page-Art-and-Culture-Ctr-The-Big-Bang-Apr-5-2025.avif
END:VEVENT
BEGIN:VEVENT
DTSTART;TZID=UTC:20250329T194500
DTEND;TZID=UTC:20250329T220000
DTSTAMP:20260422T110713
CREATED:20250426T144104Z
LAST-MODIFIED:20250426T154358Z
UID:10000014-1743277500-1743285600@fundingartsbroward.org
SUMMARY:Slow Burn Theatre: Something Rotten!
DESCRIPTION:Book by Karey Kirkpatrick\, John O’Farrell\nMusic and Lyrics by Karey Kirkpatrick\, Wayne Kirkpatrick\nDirected by Patrick Fitzwater \n​SOMETHING ROTTEN! is “Broadway’s big\, fat hit!” (New York Post) \nSet in 1595\, this hilarious smash hit tells the story of Nick and Nigel Bottom\, two brothers who are desperate to write a hit play. When a local soothsayer foretells that the future of theatre involves singing\, dancing and acting at the same time\, Nick and Nigel set out to write the world’s very first MUSICAL! \n​With its heart on its ruffled sleeve and sequins in its soul\, SOMETHING ROTTEN! is “The Producers   The Book of Mormon x The Drowsy Chaperone. Squared!” (New York Magazine). \nPresented through special arrangement with Music Theatre International (MTI). \nTickets starting at $72 \nRegister Here
URL:https://fundingartsbroward.org/event/slow-burn-theatre-something-rotten/
LOCATION:Broward Center for the Performing Arts\, Amaturo Theatre\, 201 SW Fifth Ave\, Fort Lauderdale\, FL\, 33301\, United States
CATEGORIES:FAB Grantee Program
ATTACH;FMTTYPE=image/jpeg:https://fundingartsbroward.org/wp-content/uploads/2025/04/Events-Page-SBT-Something-Rotten-Mar-29-Apr-13-2025.jpg
END:VEVENT
END:VCALENDAR