BEGIN:VCALENDAR
VERSION:2.0
PRODID:-//Funding Arts Broward - ECPv6.15.12.2//NONSGML v1.0//EN
CALSCALE:GREGORIAN
METHOD:PUBLISH
X-WR-CALNAME:Funding Arts Broward
X-ORIGINAL-URL:https://fundingartsbroward.org
X-WR-CALDESC:Events for Funding Arts Broward
REFRESH-INTERVAL;VALUE=DURATION:PT1H
X-Robots-Tag:noindex
X-PUBLISHED-TTL:PT1H
BEGIN:VTIMEZONE
TZID:UTC
BEGIN:STANDARD
TZOFFSETFROM:+0000
TZOFFSETTO:+0000
TZNAME:UTC
DTSTART:20250101T000000
END:STANDARD
END:VTIMEZONE
BEGIN:VEVENT
DTSTART;TZID=UTC:20260115T173000
DTEND;TZID=UTC:20260115T193000
DTSTAMP:20260421T201012
CREATED:20251224T192330Z
LAST-MODIFIED:20251224T192419Z
UID:10000441-1768498200-1768505400@fundingartsbroward.org
SUMMARY:An Exclusive Invitation for FAB Members: Private Tour of the Schlesinger Art Collection
DESCRIPTION:Join prominent collector and attorney Scott Schlesinger for a private tour of his remarkable art collection in Fort Lauderdale. \nImmerse yourself in a personal journey through one of Florida’s most significant private collections. Scott will guide guests through an assemblage that celebrates the state’s rich artistic heritage\, featuring pivotal works by the legendary Florida Highwaymen and other key Florida artists. This special evening is more than a viewing; it’s an opportunity to engage with the stories behind the art and the dedicated effort to preserve Florida’s unique artistic narrative. \nCocktails and hors d’oeuvres will be served as we celebrate art\, community\, and the vision that continues to shape Fort Lauderdale’s cultural landscape. FAB members are welcome to invite one guest. \nDate: Thursday\, January 15\, 2026\nTime: 5:30 PM – 7:30 PM\nLocation: Fort Lauderdale (Address provided upon RSVP)\nContribution: $25 per person \nRSVP by January 12\, 2026\nPurchase Tickets Here
URL:https://fundingartsbroward.org/event/an-exclusive-invitation-for-fab-members-private-tour-of-the-schlesinger-art-collection/
LOCATION:FL
CATEGORIES:FAB Member Event,Purchase Event Tickets
ATTACH;FMTTYPE=image/jpeg:https://fundingartsbroward.org/wp-content/uploads/2025/12/McLendon-Untitled-Backcountry-pine-with-fallen-tree-in-foreground.jpg
END:VEVENT
END:VCALENDAR