BEGIN:VCALENDAR
VERSION:2.0
PRODID:-//Funding Arts Broward - ECPv6.15.12.2//NONSGML v1.0//EN
CALSCALE:GREGORIAN
METHOD:PUBLISH
X-WR-CALNAME:Funding Arts Broward
X-ORIGINAL-URL:https://fundingartsbroward.org
X-WR-CALDESC:Events for Funding Arts Broward
REFRESH-INTERVAL;VALUE=DURATION:PT1H
X-Robots-Tag:noindex
X-PUBLISHED-TTL:PT1H
BEGIN:VTIMEZONE
TZID:UTC
BEGIN:STANDARD
TZOFFSETFROM:+0000
TZOFFSETTO:+0000
TZNAME:UTC
DTSTART:20240101T000000
END:STANDARD
END:VTIMEZONE
BEGIN:VEVENT
DTSTART;TZID=UTC:20260410T140000
DTEND;TZID=UTC:20260410T150000
DTSTAMP:20260421T232236
CREATED:20260330T163842Z
LAST-MODIFIED:20260330T163951Z
UID:10000579-1775829600-1775833200@fundingartsbroward.org
SUMMARY:FAB Grantee Program: NSU Art Museum Presents: Art in Context: An Informal History of Art Series led by Ariella Wolens\, Bryant-Taylor Curator
DESCRIPTION:Join us for part three of the three-part art history course presented by Ariella Wolens\, Bryant Taylor Curator\, designed for curious learners of all backgrounds. Held on the second Friday of each month from February through April at 2 pm\, this lecture series offers a broad and accessible journey through the history of art. \nEach session builds chronologically\, beginning with the foundations of art history and moving through key movements\, ideas\, and artists\, concluding with contemporary \nand current-day practices. Through lively discussion\, images\, and curatorial insight\, participants will gain a deeper understanding of how art reflects and shapes the world across time. \nNo prior art history experience is required\, just curiosity and a willingness to explore. This casual\, three-part series invites participants to learn\, ask questions\, and connect across centuries of artistic expression. \nVisit the Museum Café immediately following the lecture for 2-for-1 wine. \nAdmission is free for members\, $16 per class for non-members. Space is limited. Preregistration Required. \nIf you or someone you know needs help registering\, please call 954-262-0204 or email museumeducation@nova.edu \nWatch Art in Context Part One on the museum’s YouTube channel! WATCH PART ONE \nAriella Wolens \nAriella Wolens is Bryant-Taylor Curator at NSU Art Museum Fort Lauderdale\, where she has organized exhibitions including Jacqueline de Jong: Vicious Circles (2024-2025)\, Walasse Ting: Parrot Jungle (2023-2024) and Cosmic Mirrors: Haitian Art Highlights from the Collection (2023-2024). Wolens received her BA in Art History from University College London and master’s from Columbia University in Curating and Criticism of Modern Art. Prior to joining NSU Art Museum Fort Lauderdale\, Wolens served as Assistant Curator at SCAD Museum of Art in Savannah\, Georgia\, where she curated exhibitions of artists such as Sanford Biggers\, Raúl de Nieves\, Paulina Olowska\, Wong Ping and Rose B. Simpson. Her writings have appeared in publications such as Art in America\, Flash Art\, Gagosian Quarterly and Spike Art Magazine. \nSponsored in part by the State of Florida through the Division of Arts and Culture and the National Endowment for the Arts. \nMajor support for exhibitions and programs at NSU Art Museum Fort Lauderdale is provided by the David and Francie Horvitz Family Foundation Endowment\, the City of Fort Lauderdale\, Jerry Taylor & Nancy Bryant Foundation\, Wayne and Lucretia Weiner\, the Wege Foundation\, Lillian S. Wells Foundation\, Delia Moog\, the Broward County Cultural Division\, the Cultural Council\, the Broward County Board of County Commissioners\, Sponsored in part by the State of Florida through the Division of Arts and Culture and the National Endowment for the Arts; Community Foundation of Broward\, NSU Art Museum Fort Lauderdale is accredited by the American Alliance of Museums. \nWhere:\nNSU Art Museum\nOne East Las Olas Boulevard\nFort Lauderdale\, FL 33301\nWhen:\nFriday\, April 10\, 2026 at 2:00pm\nCost:\nFree for NSU Art Museum Members\n$16 for non-members\nTickets:Ticket prices vary. CLICK HERE to purchase through NSU Art Museum. \nGuests are welcome to pre-order lunch to enjoy in the Museum Cafe prior to the lecture. \nTo Pre-Order lunch from the Museum Café (VIEW FULL MENU)\, please view the menu below and call in your order to 954-262-0255.
URL:https://fundingartsbroward.org/event/fab-grantee-program-nsu-art-museum-presents-art-in-context-an-informal-history-of-art-series-led-by-ariella-wolens-bryant-taylor-curator/
LOCATION:NSU Art Museum | Fort Lauderdale\, 1 East Las Olas Blvd.\, Fort Lauderdale\, FL\, 33301
CATEGORIES:FAB Grantee Program,FAB Member Event,Purchase Event Tickets
ATTACH;FMTTYPE=image/jpeg:https://fundingartsbroward.org/wp-content/uploads/2026/03/4.10.26-scaled-e1774888706973.jpg
END:VEVENT
BEGIN:VEVENT
DTSTART;TZID=UTC:20250212T113000
DTEND;TZID=UTC:20250212T133000
DTSTAMP:20260421T232236
CREATED:20250122T053605Z
LAST-MODIFIED:20250426T145018Z
UID:10000395-1739359800-1739367000@fundingartsbroward.org
SUMMARY:A Private Tour of  Baroque Spain
DESCRIPTION:Join us for a Private Tour of Baroque Spain\, Boca Raton Museum of Art and Lunch \nDocent led tours for FAB members featuring pieces from Baroque Spain collection. Lunch at Mizner immediately following \nCost Per Person: $30 FAB Member \nRSVP by February 5\, 2025 \nRegister Here
URL:https://fundingartsbroward.org/event/a-private-tour-of-baroque-spain/
LOCATION:Boca Raton Museum of Art 501 Plaza Real Boca Raton\, FL 3343\, Boca Raton Museum of Art 501 Plaza Real\, Boca Raton\, FL\, 3343\, United States
CATEGORIES:FAB Member Event
ATTACH;FMTTYPE=image/png:https://fundingartsbroward.org/wp-content/uploads/2025/01/Calendar-of-Events-February-12-2025-Baroque-Spain-Private-tour-Boca-Museum-of-Art.png
END:VEVENT
END:VCALENDAR