BEGIN:VCALENDAR
VERSION:2.0
PRODID:-//Funding Arts Broward - ECPv6.15.12.2//NONSGML v1.0//EN
CALSCALE:GREGORIAN
METHOD:PUBLISH
X-ORIGINAL-URL:https://fundingartsbroward.org
X-WR-CALDESC:Events for Funding Arts Broward
REFRESH-INTERVAL;VALUE=DURATION:PT1H
X-Robots-Tag:noindex
X-PUBLISHED-TTL:PT1H
BEGIN:VTIMEZONE
TZID:UTC
BEGIN:STANDARD
TZOFFSETFROM:+0000
TZOFFSETTO:+0000
TZNAME:UTC
DTSTART:20240101T000000
END:STANDARD
END:VTIMEZONE
BEGIN:VEVENT
DTSTART;TZID=UTC:20260418T190000
DTEND;TZID=UTC:20260418T210000
DTSTAMP:20260421T154036
CREATED:20260325T182803Z
LAST-MODIFIED:20260326T173822Z
UID:10000558-1776538800-1776546000@fundingartsbroward.org
SUMMARY:FAB Grantee Program: Embrace Music Presents: Rhythms of Africa
DESCRIPTION:“Rhythms of Africa” is a musical journey describing the movement of ancient rhythms sprung from the souls of vibrant cultures and carried by hand and heart from Africa to the New World. It’s World Music\, the universal language\, and our performances welcome all to celebrate with us. Our program challenges children to recognize\, channel\, and direct their creativity. The show features 25 – 40 students\, most musical novices who participated in a series of workshops\, pairing them with professional musicians who join them on stage for two performances. \nWhere:\nMiramar Cultural Center\n2400 Civic Center Place\nMiramar\, FL 33025\nWhen:\nApril 18\, 2026\nCost:\n$43.09-$48.94\nTickets:\nTicket prices vary. CLICK HERE to purchase tickets with Embrace Music.
URL:https://fundingartsbroward.org/event/fab-grantee-program-embrace-music-presents-rhythms-of-africa/
LOCATION:Miramar Cultural Center – Aasin Family Art Gallery\, 2400 Civic Center Place\, Miramar\, FL\, 33025
CATEGORIES:FAB Grantee Program,FAB Member Event,Purchase Event Tickets
ATTACH;FMTTYPE=image/jpeg:https://fundingartsbroward.org/wp-content/uploads/2026/03/ROA-promotional-flyer-e1774463273151.jpg
END:VEVENT
BEGIN:VEVENT
DTSTART;TZID=UTC:20260415T194500
DTEND;TZID=UTC:20260415T213000
DTSTAMP:20260421T154036
CREATED:20260402T154949Z
LAST-MODIFIED:20260402T154949Z
UID:10000581-1776282300-1776288600@fundingartsbroward.org
SUMMARY:FAB Grantee Program: Gold Coast Jazz Society Presents: Grace Kelly Quartet Grace Kelly 20th Anniversary Tour
DESCRIPTION:Join world-renowned saxophonist\, vocalist\, and composer Grace Kelly as she celebrates 20 remarkable years of music-making. Grace takes you on an exciting journey through her 15-album catalog\, revisiting fan favorites while unveiling fresh interpretations. From the classic tracks that launched her career to the innovative sounds that continue to push creative boundaries\, prepare for a dynamic night of unforgettable performances\, stories\, and the undeniable magic that can only be described as “Gracified.”  Celebrate this milestone and witness the next thrilling chapter in Grace Kelly’s evolving legacy! \nWhere:\nAmaturo Theater at the Broward Center for the Performing Arts\n201 Southwest 5th Avenue\nFort Lauderdale\, FL 33312\nWhen:\nWednesday\, April 15th at 7:45pm\nCost:\n$70-$77\nTickets:\nTicket prices vary. CLICK HERE to purchase tickets through the venue.
URL:https://fundingartsbroward.org/event/fab-grantee-program-gold-coast-jazz-society-presents-grace-kelly-quartet-grace-kelly-20th-anniversary-tour/
LOCATION:Broward Center for the Performing Arts\, Amaturo Theatre\, 201 SW Fifth Ave\, Fort Lauderdale\, FL\, 33301\, United States
CATEGORIES:FAB Grantee Program,FAB Member Event,Purchase Event Tickets
ATTACH;FMTTYPE=image/jpeg:https://fundingartsbroward.org/wp-content/uploads/2026/04/4.15.26.jpg
END:VEVENT
BEGIN:VEVENT
DTSTART;TZID=UTC:20260412T183000
DTEND;TZID=UTC:20260412T203000
DTSTAMP:20260421T154036
CREATED:20260326T170137Z
LAST-MODIFIED:20260410T183156Z
UID:10000575-1776018600-1776025800@fundingartsbroward.org
SUMMARY:FAB Grantee Program: Miami City Ballet Presents: Spring Mix at the Parker
DESCRIPTION:A luminous evening of bold visions and timeless beauty\, brought to life by some of the most distinctive voices in dance.  \nThis striking mix showcases a range of choreographic brilliance—from poetic abstraction to dramatic storytelling. Amy Hall Garner’s Resplendent Fantasy bursts onto the stage with joy\, color\, and nonstop momentum. José Limón’s Moor’s Pavane\, a gripping retelling of Othello\, captures jealousy and betrayal with powerful restraint\, while Chaconne unfolds with spiritual grace and classical clarity. Alonzo King’s Following the Subtle Current Upstream wraps the evening in hypnotic\, flowing motion—fluid\, elemental\, and deeply human. \nRooted in tradition. Fearless in form. This is your golden hour of dance. \n\n\n\n\nWhere:\nThe Parker\n707 NE 8th Street\nFort Lauderdale\, FL 33304\nWhen:\nSaturday\, April 11\, 2026 at 7:30pm\nSunday\, April 12\, 2026 at 1:00pm\nSunday\, April 12\, 2026 at 6:30pm\nCost:\n$45-$205\nTickets:\nTicket prices vary. CLICK HERE to purchase through Miami City Ballet.
URL:https://fundingartsbroward.org/event/fab-grantee-program-miami-city-ballet-presents-spring-mix-at-the-parker/2026-04-12/2/
LOCATION:The Parker\, 707 NE 8th St\, Fort Lauderdale\, Florida\, 33304
CATEGORIES:FAB Grantee Program,FAB Member Event,Purchase Event Tickets
ATTACH;FMTTYPE=image/webp:https://fundingartsbroward.org/wp-content/uploads/2026/03/edp_MCB_SpringMix_GoldenHour_955x500-b466ba4a27.webp
END:VEVENT
BEGIN:VEVENT
DTSTART;TZID=UTC:20260412T130000
DTEND;TZID=UTC:20260412T153000
DTSTAMP:20260421T154036
CREATED:20260326T170137Z
LAST-MODIFIED:20260410T183156Z
UID:10000574-1775998800-1776007800@fundingartsbroward.org
SUMMARY:FAB Grantee Program: Miami City Ballet Presents: Spring Mix at the Parker
DESCRIPTION:A luminous evening of bold visions and timeless beauty\, brought to life by some of the most distinctive voices in dance.  \nThis striking mix showcases a range of choreographic brilliance—from poetic abstraction to dramatic storytelling. Amy Hall Garner’s Resplendent Fantasy bursts onto the stage with joy\, color\, and nonstop momentum. José Limón’s Moor’s Pavane\, a gripping retelling of Othello\, captures jealousy and betrayal with powerful restraint\, while Chaconne unfolds with spiritual grace and classical clarity. Alonzo King’s Following the Subtle Current Upstream wraps the evening in hypnotic\, flowing motion—fluid\, elemental\, and deeply human. \nRooted in tradition. Fearless in form. This is your golden hour of dance. \n\n\n\n\nWhere:\nThe Parker\n707 NE 8th Street\nFort Lauderdale\, FL 33304\nWhen:\nSaturday\, April 11\, 2026 at 7:30pm\nSunday\, April 12\, 2026 at 1:00pm\nSunday\, April 12\, 2026 at 6:30pm\nCost:\n$45-$205\nTickets:\nTicket prices vary. CLICK HERE to purchase through Miami City Ballet.
URL:https://fundingartsbroward.org/event/fab-grantee-program-miami-city-ballet-presents-spring-mix-at-the-parker/2026-04-12/1/
LOCATION:The Parker\, 707 NE 8th St\, Fort Lauderdale\, Florida\, 33304
CATEGORIES:FAB Grantee Program,FAB Member Event,Purchase Event Tickets
ATTACH;FMTTYPE=image/webp:https://fundingartsbroward.org/wp-content/uploads/2026/03/edp_MCB_SpringMix_GoldenHour_955x500-b466ba4a27.webp
END:VEVENT
BEGIN:VEVENT
DTSTART;TZID=UTC:20260411T193000
DTEND;TZID=UTC:20260412T213000
DTSTAMP:20260421T154036
CREATED:20260326T170137Z
LAST-MODIFIED:20260410T183156Z
UID:10000573-1775935800-1776029400@fundingartsbroward.org
SUMMARY:FAB Grantee Program: Miami City Ballet Presents: Spring Mix at the Parker
DESCRIPTION:A luminous evening of bold visions and timeless beauty\, brought to life by some of the most distinctive voices in dance.  \nThis striking mix showcases a range of choreographic brilliance—from poetic abstraction to dramatic storytelling. Amy Hall Garner’s Resplendent Fantasy bursts onto the stage with joy\, color\, and nonstop momentum. José Limón’s Moor’s Pavane\, a gripping retelling of Othello\, captures jealousy and betrayal with powerful restraint\, while Chaconne unfolds with spiritual grace and classical clarity. Alonzo King’s Following the Subtle Current Upstream wraps the evening in hypnotic\, flowing motion—fluid\, elemental\, and deeply human. \nRooted in tradition. Fearless in form. This is your golden hour of dance. \n\n\n\n\nWhere:\nThe Parker\n707 NE 8th Street\nFort Lauderdale\, FL 33304\nWhen:\nSaturday\, April 11\, 2026 at 7:30pm\nSunday\, April 12\, 2026 at 1:00pm\nSunday\, April 12\, 2026 at 6:30pm\nCost:\n$45-$205\nTickets:\nTicket prices vary. CLICK HERE to purchase through Miami City Ballet.
URL:https://fundingartsbroward.org/event/fab-grantee-program-miami-city-ballet-presents-spring-mix-at-the-parker/2026-04-11/2/
LOCATION:The Parker\, 707 NE 8th St\, Fort Lauderdale\, Florida\, 33304
CATEGORIES:FAB Grantee Program,FAB Member Event,Purchase Event Tickets
ATTACH;FMTTYPE=image/webp:https://fundingartsbroward.org/wp-content/uploads/2026/03/edp_MCB_SpringMix_GoldenHour_955x500-b466ba4a27.webp
END:VEVENT
BEGIN:VEVENT
DTSTART;TZID=UTC:20260411T110000
DTEND;TZID=UTC:20260411T123000
DTSTAMP:20260421T154036
CREATED:20260319T180327Z
LAST-MODIFIED:20260320T150101Z
UID:10000446-1775905200-1775910600@fundingartsbroward.org
SUMMARY:FAB Grantee Program: Brazilian Voices Presents: "Quiet Bossa - Jazz 4 All”
DESCRIPTION:Quiet Bossa: Jazz 4 All is a sensory-inclusive performance by Brazilian Voices at the Broward Center for the Performing Arts\, created especially for individuals on the autism spectrum and those with sensory sensitivities. With gentle sound levels\, minimal effects\, and a calm\, supportive atmosphere\, this one-hour concert features familiar jazz and pop favorites. Audience members are invited to participate by playing instruments such as triangles\, cajóns\, and egg shakers—provided to enjoy and take home—encouraging joyful expression at every comfort level.\n\nWhere:  Broward Center for the Performing Arts\n201 SW 5th Ave\nFort Lauderdale\, FL 33312\nWhen:   Saturday\, April 11th\, 11:00 AM Early Bird\nCost:     $11-$25\nTickets: Ticket Prices Vary Click Here to Purchase with BCPA
URL:https://fundingartsbroward.org/event/fab-grantee-program-brazilian-voices-presents-quiet-bossa-jazz-4-all/
LOCATION:Broward Center for the Performing Arts\, Amaturo Theatre\, 201 SW Fifth Ave\, Fort Lauderdale\, FL\, 33301\, United States
CATEGORIES:FAB Grantee Program,FAB Member Event,Purchase Event Tickets
ATTACH;FMTTYPE=image/png:https://fundingartsbroward.org/wp-content/uploads/2026/03/Quiet-2026-Square-Ad-e1773946254286.png
END:VEVENT
BEGIN:VEVENT
DTSTART;TZID=UTC:20260411T073000
DTEND;TZID=UTC:20260412T183000
DTSTAMP:20260421T154036
CREATED:20260326T170137Z
LAST-MODIFIED:20260410T183156Z
UID:10000572-1775892600-1776018600@fundingartsbroward.org
SUMMARY:FAB Grantee Program: Miami City Ballet Presents: Spring Mix at the Parker
DESCRIPTION:A luminous evening of bold visions and timeless beauty\, brought to life by some of the most distinctive voices in dance.  \nThis striking mix showcases a range of choreographic brilliance—from poetic abstraction to dramatic storytelling. Amy Hall Garner’s Resplendent Fantasy bursts onto the stage with joy\, color\, and nonstop momentum. José Limón’s Moor’s Pavane\, a gripping retelling of Othello\, captures jealousy and betrayal with powerful restraint\, while Chaconne unfolds with spiritual grace and classical clarity. Alonzo King’s Following the Subtle Current Upstream wraps the evening in hypnotic\, flowing motion—fluid\, elemental\, and deeply human. \nRooted in tradition. Fearless in form. This is your golden hour of dance. \n\n\n\n\nWhere:\nThe Parker\n707 NE 8th Street\nFort Lauderdale\, FL 33304\nWhen:\nSaturday\, April 11\, 2026 at 7:30pm\nSunday\, April 12\, 2026 at 1:00pm\nSunday\, April 12\, 2026 at 6:30pm\nCost:\n$45-$205\nTickets:\nTicket prices vary. CLICK HERE to purchase through Miami City Ballet.
URL:https://fundingartsbroward.org/event/fab-grantee-program-miami-city-ballet-presents-spring-mix-at-the-parker/2026-04-11/1/
LOCATION:The Parker\, 707 NE 8th St\, Fort Lauderdale\, Florida\, 33304
CATEGORIES:FAB Grantee Program,FAB Member Event,Purchase Event Tickets
ATTACH;FMTTYPE=image/webp:https://fundingartsbroward.org/wp-content/uploads/2026/03/edp_MCB_SpringMix_GoldenHour_955x500-b466ba4a27.webp
END:VEVENT
BEGIN:VEVENT
DTSTART;VALUE=DATE:20250725
DTEND;VALUE=DATE:20250727
DTSTAMP:20260421T154036
CREATED:20250616T212059Z
LAST-MODIFIED:20250616T213053Z
UID:10000411-1753401600-1753574399@fundingartsbroward.org
SUMMARY:Art Prevails Project I The Bard in Bars
DESCRIPTION:Experience the dynamic fusion of classical literature and modern music with The Bard in Bars\, presented by Art Prevails Project. This innovative production combines some of William Shakespeare’s most compelling works with the rhythm\, energy\, and style of top Hip Hop hits\, all performed live by a talented 12-piece ensemble. \nWritten and directed by Darius V. Daughtry\, The Bard in Bars is a vibrant\, energetic journey that reimagines Shakespeare’s timeless words through the lens of Hip Hop culture. Audience members will be transported back to high school English class while grooving to live music played by a skilled ensemble of musicians\, including violins\, cellos\, and more. \nThis captivating performance brings fresh energy and creativity to Shakespeare’s classic texts\, making it a must-see for lovers of literature\, music\, and innovative arts. Whether you’re a literary scholar\, a Hip Hop fan\, or simply curious about a new way to experience Shakespeare\, **The Bard in Bars** offers something for everyone. \nSupport arts and cultural diversity in South Florida by attending this exciting event. Discover how the arts can bridge generations and genres\, inspiring new appreciation for Shakespeare’s work through the powerful rhythms of Hip Hop. Perfect for all ages\, this performance promises an unforgettable experience that celebrates creativity\, community\, and the transformative power of the arts. \n  \nWhen\nJuly 25-26\n \nWhere\nBCPA\, Amaturo  \nTickets\n$35-$59 \nLearn more about FAB \nLearn more about Art Prevails \nArt Prevails Project is proud to be the recipient of Funding Arts Broward’s prestigious Arts Access Award Grant. This multi-year grant provides vital funding to support arts education initiatives across Broward County Schools\, helping to foster creativity\, engaging youth\, and expanding access to high-quality arts programs for students of all backgrounds. \nAs a leading nonprofit arts organization in South Florida\, Art Prevails Project is dedicated to transforming lives through innovative theater\, community engagement\, and arts education. Our ongoing partnership with Funding Arts Broward enables us to bring dynamic performances\, educational workshops\, and outreach programs to schools and communities throughout Broward County. \nBy supporting arts education in Broward County Schools\, Art Prevails Project aims to cultivate the next generation of artists\, thinkers\, and community leaders. Our programs focus on arts integration\, cultural awareness\, and youth empowerment\, ensuring that all students have the opportunity to experience the transformative power of the arts. \nInvest in arts education and community enrichment—support Art Prevails Project and help us continue making a positive impact through arts access\, community engagement\, and innovative theater experiences in Broward County and beyond.
URL:https://fundingartsbroward.org/event/art-prevails-project-i-the-bard-in-bars/
LOCATION:Broward Center for the Performing Arts\, Amaturo Theatre\, 201 SW Fifth Ave\, Fort Lauderdale\, FL\, 33301\, United States
CATEGORIES:FAB Grantee Program
ATTACH;FMTTYPE=image/jpeg:https://fundingartsbroward.org/wp-content/uploads/2025/06/IMG_4708.jpeg
END:VEVENT
BEGIN:VEVENT
DTSTART;TZID=UTC:20250514T194500
DTEND;TZID=UTC:20250514T213000
DTSTAMP:20260421T154036
CREATED:20250426T174551Z
LAST-MODIFIED:20250426T183423Z
UID:10000401-1747251900-1747258200@fundingartsbroward.org
SUMMARY:Gold Coast Jazz - Luciana Souza Trio
DESCRIPTION:“Her voice traces a landscape of emotion that knows no boundaries.” Entertainment Weekly Grammy® winner Luciana Souza is one of Jazz’s leading singers and interpreters. Souza’s singing has been called “transcendental\, “perfect\, “and of unparalleled beauty.”  Her work as a performer transcends traditional musical boundaries\, offering solid roots in jazz\, sophisticated world music\, and an enlightened approach to new music. She has performed and recorded with greats including Herbie Hancock\, Paul Simon\, James Taylor\, Bobby McFerrin\, Maria Schneider\, Danilo Perez\, and many others. Her longstanding duo work with Brazilian guitarist Romero Lubambo has earned her accolades across the globe. \nRegister Here
URL:https://fundingartsbroward.org/event/gold-coast-jazz-luciana-souza-trio/
LOCATION:Broward Center for the Performing Arts\, Amaturo Theatre\, 201 SW Fifth Ave\, Fort Lauderdale\, FL\, 33301\, United States
CATEGORIES:FAB Grantee Program
ATTACH;FMTTYPE=image/webp:https://fundingartsbroward.org/wp-content/uploads/2025/04/Events-Page-Gold-Coast-Jazz-May-14-2025-luciana-2-Copy-jpg.webp
END:VEVENT
BEGIN:VEVENT
DTSTART;TZID=UTC:20250510T190000
DTEND;TZID=UTC:20250510T210000
DTSTAMP:20260421T154036
CREATED:20250427T204943Z
LAST-MODIFIED:20250515T211832Z
UID:10000405-1746903600-1746910800@fundingartsbroward.org
SUMMARY:South Florida Pride Concert Band: Heroes and Villains
DESCRIPTION:The South Florida Pride Concert Band: Heroes and Villains\, presented by the Bears of South Florida. This one-night-only performance will feature Tony Award winning vocalist Frances Ruffelle and Tony and Grammy Award nominee Max von Essen. This concert will take the listeners on a journey exploring the greatest heroes of our time and as well as the most dastardly villains. From history to the silver screen and Broadway\, you will be delighted by musical themes and songs from Hercules to Darth Vader and everything in-between. \nRegister Here
URL:https://fundingartsbroward.org/event/south-florida-pride-concert-band-heroes-and-villains/
LOCATION:The Parker\, 707 NE 8th St\, Fort Lauderdale\, Florida\, 33304
CATEGORIES:FAB Grantee Program
ATTACH;FMTTYPE=image/jpeg:https://fundingartsbroward.org/wp-content/uploads/2025/04/Events-Page-S-FL-Pride-Bands-Heros-and-Villains-May-10-2025.jpg
END:VEVENT
BEGIN:VEVENT
DTSTART;TZID=UTC:20250509T200000
DTEND;TZID=UTC:20250509T220000
DTSTAMP:20260421T154036
CREATED:20250426T163346Z
LAST-MODIFIED:20250426T163346Z
UID:10000398-1746820800-1746828000@fundingartsbroward.org
SUMMARY:Dance NOW! Miami | Terra Mia/My Land
DESCRIPTION:Dance NOW! culminates its 25th Anniversary Season with Program III featuring the world premiere of “Terra Mia (My Land)”. This exploration of DNM Director Diego Salterini’s roots is an invitation for audiences to immerse themselves in the beauty\, passion\, and resilience of Italian culture. Audiences will be entranced by the sights and sounds of Italy as we travel through Salterini’s nostalgic memories of his life and his family’s history. Audiences will witness the intersection of different cultures and identities\, and the message of acceptance. The evening will also include a celebration of Dance NOW!’s quarter century of creating and presenting contemporary dance with audience favorites from the company’s history. \nTickets: $20-$40 \nRegister Here
URL:https://fundingartsbroward.org/event/dance-now-miami-terra-mia-my-land/
LOCATION:Broward Center for the Performing Arts\, Amaturo Theatre\, 201 SW Fifth Ave\, Fort Lauderdale\, FL\, 33301\, United States
CATEGORIES:FAB Grantee Program
ATTACH;FMTTYPE=image/jpeg:https://fundingartsbroward.org/wp-content/uploads/2025/04/Events-Page-Dance-Now-Miami-Terra-Mia_May-9-2025.jpg
END:VEVENT
BEGIN:VEVENT
DTSTART;TZID=UTC:20250502T150000
DTEND;TZID=UTC:20250502T180000
DTSTAMP:20260421T154036
CREATED:20250122T070137Z
LAST-MODIFIED:20250426T183621Z
UID:10000013-1746198000-1746208800@fundingartsbroward.org
SUMMARY:Miami City Ballet: Behind the Scenes Dress Rehearsal of 'Carmen' FAB Members Only
DESCRIPTION:Join Us for a Dress Rehearsal with the Miami City Ballet \nMiami City Ballet welcomes FAB members to an exclusive sneak peek rehearsal of “Carmen \nCost Per Person: Complimentary for FAB members and their guest \nRSVP by April 25\, 2025 \nRegister Here
URL:https://fundingartsbroward.org/event/fab-grantee-program/
LOCATION:Broward Center for the Performing Arts\, Au Rene Theatre\, 201 SW Fifth Ave\, Fort Lauderdale\, FL\, 33301
CATEGORIES:FAB Member Event
ATTACH;FMTTYPE=image/webp:https://fundingartsbroward.org/wp-content/uploads/2025/02/Calendar-of-Events-Carmen-MCB-24-25_WebsiteImages1920x850_Carmen.webp
END:VEVENT
BEGIN:VEVENT
DTSTART;TZID=UTC:20250329T194500
DTEND;TZID=UTC:20250329T220000
DTSTAMP:20260421T154036
CREATED:20250426T144104Z
LAST-MODIFIED:20250426T154358Z
UID:10000014-1743277500-1743285600@fundingartsbroward.org
SUMMARY:Slow Burn Theatre: Something Rotten!
DESCRIPTION:Book by Karey Kirkpatrick\, John O’Farrell\nMusic and Lyrics by Karey Kirkpatrick\, Wayne Kirkpatrick\nDirected by Patrick Fitzwater \n​SOMETHING ROTTEN! is “Broadway’s big\, fat hit!” (New York Post) \nSet in 1595\, this hilarious smash hit tells the story of Nick and Nigel Bottom\, two brothers who are desperate to write a hit play. When a local soothsayer foretells that the future of theatre involves singing\, dancing and acting at the same time\, Nick and Nigel set out to write the world’s very first MUSICAL! \n​With its heart on its ruffled sleeve and sequins in its soul\, SOMETHING ROTTEN! is “The Producers   The Book of Mormon x The Drowsy Chaperone. Squared!” (New York Magazine). \nPresented through special arrangement with Music Theatre International (MTI). \nTickets starting at $72 \nRegister Here
URL:https://fundingartsbroward.org/event/slow-burn-theatre-something-rotten/
LOCATION:Broward Center for the Performing Arts\, Amaturo Theatre\, 201 SW Fifth Ave\, Fort Lauderdale\, FL\, 33301\, United States
CATEGORIES:FAB Grantee Program
ATTACH;FMTTYPE=image/jpeg:https://fundingartsbroward.org/wp-content/uploads/2025/04/Events-Page-SBT-Something-Rotten-Mar-29-Apr-13-2025.jpg
END:VEVENT
END:VCALENDAR