BEGIN:VCALENDAR
VERSION:2.0
PRODID:-//Funding Arts Broward - ECPv6.15.12.2//NONSGML v1.0//EN
CALSCALE:GREGORIAN
METHOD:PUBLISH
X-WR-CALNAME:Funding Arts Broward
X-ORIGINAL-URL:https://fundingartsbroward.org
X-WR-CALDESC:Events for Funding Arts Broward
REFRESH-INTERVAL;VALUE=DURATION:PT1H
X-Robots-Tag:noindex
X-PUBLISHED-TTL:PT1H
BEGIN:VTIMEZONE
TZID:UTC
BEGIN:STANDARD
TZOFFSETFROM:+0000
TZOFFSETTO:+0000
TZNAME:UTC
DTSTART:20250101T000000
END:STANDARD
END:VTIMEZONE
BEGIN:VEVENT
DTSTART;VALUE=DATE:20260502
DTEND;VALUE=DATE:20260503
DTSTAMP:20260421T141032
CREATED:20260330T203347Z
LAST-MODIFIED:20260330T203347Z
UID:10000580-1777680000-1777766399@fundingartsbroward.org
SUMMARY:FAB Members Program: Arts Ballet Theatre of Florida Presents: Spring Gala
DESCRIPTION:Join Us for an Exclusive Dress Rehearsal with Arts Ballet Theatre\n\nEnjoy and exclusive behind the scenes look at Arts Ballet Theatre of Florida rehearsing for the closing performance of the season\, “Spring Gala.” Members may bring one guest to enjoy this tech rehearsal as part of FAB membership benefit.\n\n\n\n\nWhere:\nBroward Center for the Performing Arts (Amaturo Theater)\n201 SW 5th Avenue\,\nFort Lauderdale\, FL 33312\nWhen:\nSaturday\, May 2nd\, 2026\nTime:\nTBA\nMore information to follow
URL:https://fundingartsbroward.org/event/fab-members-program-arts-ballet-theatre-of-florida-presents-spring-gala/
LOCATION:Broward Center for the Performing Arts\, Amaturo Theatre\, 201 SW Fifth Ave\, Fort Lauderdale\, FL\, 33301\, United States
CATEGORIES:FAB Grantee Program,FAB Member Event,Purchase Event Tickets
ATTACH;FMTTYPE=image/avif:https://fundingartsbroward.org/wp-content/uploads/2026/03/Spring-Gala.avif
END:VEVENT
BEGIN:VEVENT
DTSTART;TZID=UTC:20260502T193000
DTEND;TZID=UTC:20260502T213000
DTSTAMP:20260421T141032
CREATED:20260325T191829Z
LAST-MODIFIED:20260330T203458Z
UID:10000559-1777750200-1777757400@fundingartsbroward.org
SUMMARY:FAB Grantee Program: Arts Ballet Theatre of Florida Presents: Spring Gala
DESCRIPTION:Arts Ballet Theatre of Florida closes its season with the “Spring Gala”\, a vibrant program showcasing the company’s most dynamic repertoire. Opening the performance is “Danzón” by Yanis Pikieris\, a lively neoclassical piece set to Arturo Márquez’s rhythmic score. Vladimir Issaev’s elegant “La Traviata Pas de Deux” follows\, along with his emotionally charged “Shostakovich Suites”. Guest choreographer Alberto Méndez brings his celebrated “Tarde en la Siesta” to South Florida audiences once more in collaboration with Issaev. The evening concludes with the U.S. premiere of Issaev’s large-scale “Polovtsian Dances”\, set to Borodin’s powerful opera score and performed by 32 dancers. A breathtaking finale! \nA FREE 30 minute pre-show discussion for all patrons will occur thirty minutes prior to the start of the show\, inside the theater.  A valid ticket for this designated event is required. \nVIP Tickets are available for this show. VIP includes preferred seating and one drink voucher per ticket. VIP patrons will be required to check in prior to the start of the show to receive the benefits of this program. No cash value. Those arriving late or after the start of show may not be eligible to utilize all of the benefits of the VIP program. \n\n\n\n\n\nWhere:\nBroward Center for the Performing Arts (Amaturo Theater)\n201 SW 5th Avenue\,\nFort Lauderdale\, FL 33312\nWhen:\nSaturday\, May 2nd\, 2026  7:30 pm\nCost:​\n$47-$69\nTickets:\nTicket prices vary. CLICK HERE to purchase tickets with Arts Ballet Theatre.
URL:https://fundingartsbroward.org/event/fab-grantee-program-arts-ballet-theatre-of-florida-presents-spring-gala/
LOCATION:Broward Center for the Performing Arts\, Amaturo Theatre\, 201 SW Fifth Ave\, Fort Lauderdale\, FL\, 33301\, United States
CATEGORIES:FAB Grantee Program,FAB Member Event,Purchase Event Tickets
ATTACH;FMTTYPE=image/jpeg:https://fundingartsbroward.org/wp-content/uploads/2026/03/ABTFL-SeasonLanding-pageBanner-SPRING-GALA-970x250-1-1.jpg
END:VEVENT
BEGIN:VEVENT
DTSTART;TZID=UTC:20260508T200000
DTEND;TZID=UTC:20260508T220000
DTSTAMP:20260421T141032
CREATED:20260325T193443Z
LAST-MODIFIED:20260325T193443Z
UID:10000560-1778270400-1778277600@fundingartsbroward.org
SUMMARY:FAB Grantee Program: Dance Now! Presents: Program III Featuring "Love-Less: Dance of the Last Moho Braccatus
DESCRIPTION:Dance NOW! Miami Presents Program III\, featuring “Love-less: Dance of the last Moho braccatus\,” a world premiere from Co-Artistic Director Hannah Baumgarten. This contemporary ballet is based on the story of the small black-and-yellow Hawaiian songbird\, facing extinction due to habitat destruction and climate change. “Love-less” is a contemporary dance depicting a real story of paradise lost\, of true love\, extinction and ultimately of the frailty of our world\, with an original score based on the bird’s calls by Italian composer Federico Bonacossa\, with costumes from the Morales Sisters\, a stunning set high atop the trees from Bruce F. Brown and stirring video art by Co-Director Diego Salterini. \nOrnithologists followed the plight of this endangered species as it careened toward extinction–but were hopeful as a pair of the birds resisted; therein remained a chance that the species would continue. The distinctive mating song of the last pair of these birds was recorded\, with its call and response. In a tragic turn of events\, a hurricane killed the female of the pair\, the male unaware of her fate. The distinctive bell-like call was last heard and recorded in 1987 as the male partner called out for his mate\, unable to understand why she did not respond. \nThe evening will also include audience favorites from the 26th season of dance. \nThis program is sponsored in part by the Broward County Cultural Division\, Funding Arts Broward\, Miami-Dade Department of Cultural Affairs\, and other donors. \nWhere:\nLauderhill Performing Arts Center\n3800 NW 11th Place\nLauderhill\, FL 33311\nWhen:\nFriday\, May 8th at 8:00pm\nCost:\n$20-$50\nTickets:\nTicket prices vary. CLICK HERE to purchase with Dance Now!. \n 
URL:https://fundingartsbroward.org/event/fab-grantee-program-dance-now-presents-program-iii-featuring-love-less-dance-of-the-last-moho-braccatus/
LOCATION:Lauderhill Performing Arts Center\, 3800 NW 11th Place\, Lauderhill\, Florida
CATEGORIES:FAB Grantee Program,FAB Member Event,Purchase Event Tickets
ATTACH;FMTTYPE=image/jpeg:https://fundingartsbroward.org/wp-content/uploads/2026/03/dance-now-1.jpg
END:VEVENT
BEGIN:VEVENT
DTSTART;TZID=UTC:20260509T193000
DTEND;TZID=UTC:20260509T213000
DTSTAMP:20260421T141032
CREATED:20260326T174842Z
LAST-MODIFIED:20260326T174842Z
UID:10000577-1778355000-1778362200@fundingartsbroward.org
SUMMARY:FAB Grantee Program: Fushu Dailo and Brazilian Voices Presents: Japan Arts/Fushu Daiko
DESCRIPTION:Brazilian Voices joins forces with Fushu Daiko for Taiko & Batucada\, an electrifying collaboration between two dynamic cultural ensembles. This powerful sensory experience blends the commanding energy of Taiko drumming with the rich harmonies of Bossa Nova and Samba\, exploring deep connections between rhythm\, culture\, and nature. The result is an inspiring performance that engages the senses\, celebrates cross-cultural dialogue\, and invites audiences to experience unity through sound\, movement\, and shared artistic expression. \nWhere:\nAmaturo Theater at the Broward Center\n201 SW 5th Avenue\nFort Lauderdale\, FL 33312\nWhen:\nSaturday\, May 9\, 2026 at 7:30pm\nCost:\n$22-$54\nTickets:\nTickets prices vary. CLICK HERE to purchase through the venue.
URL:https://fundingartsbroward.org/event/fab-grantee-program-fushu-dailo-and-brazilian-voices-presents-japan-arts-fushu-daiko/
LOCATION:Broward Center for the Performing Arts\, Amaturo Theatre\, 201 SW Fifth Ave\, Fort Lauderdale\, FL\, 33301\, United States
CATEGORIES:FAB Grantee Program,FAB Member Event,Purchase Event Tickets
ATTACH;FMTTYPE=image/png:https://fundingartsbroward.org/wp-content/uploads/2026/03/Taiko-Batucada-Square-Ad-e1773945969863.png
END:VEVENT
BEGIN:VEVENT
DTSTART;TZID=UTC:20260509T193000
DTEND;TZID=UTC:20260510T183000
DTSTAMP:20260421T141032
CREATED:20260326T170914Z
LAST-MODIFIED:20260326T195549Z
UID:10000576-1778355000-1778437800@fundingartsbroward.org
SUMMARY:FAB Grantee Program: Miami City Ballet Presents: Spring Mix 2 ¡Vamos! To the Beach
DESCRIPTION:Deuce Coupe is part of the Spring Mix 2 program ¡Vamos! To the Beach. The Company Premiere of Twyla Tharp’s iconic Deuce Coupe kicks off the program with an explosion of Beach Boys tunes\, blending ballet with laid-back West Coast vibes that’ll make you feel like you’re riding the waves. Durante Verzola’s Grand Glittering Gershwin\, set to Gershwin’s effervescent score\, brings bold elegance to the stage—Art Deco cool meets contemporary flair\, in a creation as vibrant and free-spirited as Miami itself. Paul Taylor’s Company B closes the program off with swing\, sass\, and the irresistible harmonies of The Andrews Sisters—an all-American dance party with vintage verve. Fun\, fresh\, and completely unforgettable—this program is the ultimate beach day\, bottled up and brought to life. \nWhere:\nBroward Center for the Performing Arts\n201 SW Fifth Avenue\nFort Lauderdale\, FL 33312\nWhen:\nSaturday\, May 9\, 2026 at 7:30pm\nSunday\, May 10\, 2026 ay 1:00pm\nSunday\, May 10\, 2026 at 6:30pm\nCost:\n$45-265\nTickets:\nTicket prices vary. CLICK HERE to purchase through Miami City Ballet.
URL:https://fundingartsbroward.org/event/fab-grantee-program-miami-city-ballet-presents-spring-mix-2-vamos-to-the-beach/
LOCATION:Broward Center for the Performing Arts\, Au Rene Theatre\, 201 SW Fifth Ave\, Fort Lauderdale\, FL\, 33301
CATEGORIES:FAB Grantee Program,FAB Member Event,Purchase Event Tickets
ATTACH;FMTTYPE=image/jpeg:https://fundingartsbroward.org/wp-content/uploads/2026/03/MCB00618-Enhanced-NR-e1774554941484.jpg
END:VEVENT
BEGIN:VEVENT
DTSTART;TZID=UTC:20260521T193000
DTEND;TZID=UTC:20260522T210000
DTSTAMP:20260421T141032
CREATED:20260421T140910Z
LAST-MODIFIED:20260421T140910Z
UID:10000733-1779391800-1779483600@fundingartsbroward.org
SUMMARY:FAB Grantee Program: Broward Center's Rose Miniaci Arts Education Students Presents: The Heart of Rock and Roll Jr.
DESCRIPTION:Blazers. Big hair. Bigger dreams. \nTHE HEART OF ROCK AND ROLL JR. is a smart\, funny\, heartfelt musical throwback to 1987 powered by the legendary hits of Huey Lewis and the News — including “The Power of Love\,” “Do You Believe in Love\,” and “Hip to Be Square.” \nThe music you know. The vibe you miss. The love story you didn’t see coming. \nThree performances at the Amaturo Theatre at The Broward Center for the Performing Arts \nWhere:\nAmaturo Theatre\n201 Southwest 5th Avenue\nFort Lauderdale\, FL 33312\nWhen:\nThursday\, May 21st at 7:30pm\nFriday\, May 22nd at 7:30pm\nSaturday\, May 23rd at 1:00pm\nCost:\n$23.60\nTickets:\nTicker prices may vary. CLICK HERE to purchase tickets through The Broward Center for the Performing Arts.
URL:https://fundingartsbroward.org/event/fab-grantee-program-broward-centers-rose-miniaci-arts-education-students-presents-the-heart-of-rock-and-roll-jr/2026-05-21/
LOCATION:Broward Center for the Performing Arts\, Amaturo Theatre\, 201 SW Fifth Ave\, Fort Lauderdale\, FL\, 33301\, United States
CATEGORIES:FAB Grantee Program,FAB Member Event,Purchase Event Tickets
ATTACH;FMTTYPE=image/webp:https://fundingartsbroward.org/wp-content/uploads/2026/04/Heart-of-Rock-and-Roll-Jr-e1776780404331.webp
END:VEVENT
BEGIN:VEVENT
DTSTART;TZID=UTC:20260522T193000
DTEND;TZID=UTC:20260523T210000
DTSTAMP:20260421T141032
CREATED:20260421T140910Z
LAST-MODIFIED:20260421T140910Z
UID:10000734-1779478200-1779570000@fundingartsbroward.org
SUMMARY:FAB Grantee Program: Broward Center's Rose Miniaci Arts Education Students Presents: The Heart of Rock and Roll Jr.
DESCRIPTION:Blazers. Big hair. Bigger dreams. \nTHE HEART OF ROCK AND ROLL JR. is a smart\, funny\, heartfelt musical throwback to 1987 powered by the legendary hits of Huey Lewis and the News — including “The Power of Love\,” “Do You Believe in Love\,” and “Hip to Be Square.” \nThe music you know. The vibe you miss. The love story you didn’t see coming. \nThree performances at the Amaturo Theatre at The Broward Center for the Performing Arts \nWhere:\nAmaturo Theatre\n201 Southwest 5th Avenue\nFort Lauderdale\, FL 33312\nWhen:\nThursday\, May 21st at 7:30pm\nFriday\, May 22nd at 7:30pm\nSaturday\, May 23rd at 1:00pm\nCost:\n$23.60\nTickets:\nTicker prices may vary. CLICK HERE to purchase tickets through The Broward Center for the Performing Arts.
URL:https://fundingartsbroward.org/event/fab-grantee-program-broward-centers-rose-miniaci-arts-education-students-presents-the-heart-of-rock-and-roll-jr/2026-05-22/
LOCATION:Broward Center for the Performing Arts\, Amaturo Theatre\, 201 SW Fifth Ave\, Fort Lauderdale\, FL\, 33301\, United States
CATEGORIES:FAB Grantee Program,FAB Member Event,Purchase Event Tickets
ATTACH;FMTTYPE=image/webp:https://fundingartsbroward.org/wp-content/uploads/2026/04/Heart-of-Rock-and-Roll-Jr-e1776780404331.webp
END:VEVENT
BEGIN:VEVENT
DTSTART;TZID=UTC:20260523T130000
DTEND;TZID=UTC:20260523T143000
DTSTAMP:20260421T141032
CREATED:20260421T140910Z
LAST-MODIFIED:20260421T140910Z
UID:10000735-1779541200-1779546600@fundingartsbroward.org
SUMMARY:FAB Grantee Program: Broward Center's Rose Miniaci Arts Education Students Presents: The Heart of Rock and Roll Jr.
DESCRIPTION:Blazers. Big hair. Bigger dreams. \nTHE HEART OF ROCK AND ROLL JR. is a smart\, funny\, heartfelt musical throwback to 1987 powered by the legendary hits of Huey Lewis and the News — including “The Power of Love\,” “Do You Believe in Love\,” and “Hip to Be Square.” \nThe music you know. The vibe you miss. The love story you didn’t see coming. \nThree performances at the Amaturo Theatre at The Broward Center for the Performing Arts \nWhere:\nAmaturo Theatre\n201 Southwest 5th Avenue\nFort Lauderdale\, FL 33312\nWhen:\nThursday\, May 21st at 7:30pm\nFriday\, May 22nd at 7:30pm\nSaturday\, May 23rd at 1:00pm\nCost:\n$23.60\nTickets:\nTicker prices may vary. CLICK HERE to purchase tickets through The Broward Center for the Performing Arts.
URL:https://fundingartsbroward.org/event/fab-grantee-program-broward-centers-rose-miniaci-arts-education-students-presents-the-heart-of-rock-and-roll-jr/2026-05-23/
LOCATION:Broward Center for the Performing Arts\, Amaturo Theatre\, 201 SW Fifth Ave\, Fort Lauderdale\, FL\, 33301\, United States
CATEGORIES:FAB Grantee Program,FAB Member Event,Purchase Event Tickets
ATTACH;FMTTYPE=image/webp:https://fundingartsbroward.org/wp-content/uploads/2026/04/Heart-of-Rock-and-Roll-Jr-e1776780404331.webp
END:VEVENT
END:VCALENDAR