BEGIN:VCALENDAR
VERSION:2.0
PRODID:-//Funding Arts Broward - ECPv6.15.12.2//NONSGML v1.0//EN
CALSCALE:GREGORIAN
METHOD:PUBLISH
X-WR-CALNAME:Funding Arts Broward
X-ORIGINAL-URL:https://fundingartsbroward.org
X-WR-CALDESC:Events for Funding Arts Broward
REFRESH-INTERVAL;VALUE=DURATION:PT1H
X-Robots-Tag:noindex
X-PUBLISHED-TTL:PT1H
BEGIN:VTIMEZONE
TZID:UTC
BEGIN:STANDARD
TZOFFSETFROM:+0000
TZOFFSETTO:+0000
TZNAME:UTC
DTSTART:20250101T000000
END:STANDARD
END:VTIMEZONE
BEGIN:VEVENT
DTSTART;TZID=UTC:20260508T193000
DTEND;TZID=UTC:20260508T210000
DTSTAMP:20260421T140407
CREATED:20260325T194909Z
LAST-MODIFIED:20260326T175317Z
UID:10000561-1778268600-1778274000@fundingartsbroward.org
SUMMARY:FAB Grantee Program: The Girl Choir Presents: Spring Concert: Earth\, Water\, Fire\, Air
DESCRIPTION:The repertoire for “Earth\, Water\, Fire\, Air” is crafted with a socialemotional learning lens\, encouraging choristers to explore themes of connection\, resilience\, and empowerment through their performance. This intentional focus fosters personal growth\, collaboration\, and a deeper understanding of the music’s messages\, ensuring the experience resonates beyond the stage for both performers and audience members. What connects us to the natural world and to each other? Earth\, Water\, Fire\, Air explores this question through music inspired by the classical elements. \nWhere:\nSunshine Cathedral Center for the Performing Arts\n1480 SW 9th Avenue\nFort Lauderdale\, FL 33315\nWhen:\nMay 8\, 2026 at 7:30pm\nOn Sale Soon\nMore information CLICK HERE
URL:https://fundingartsbroward.org/event/fab-grantee-program-the-girl-choir-presents-spring-concert-earth-water-fire-air/
LOCATION:Sunshine Cathedral\, 1480 SW 9th Ave\, Fort Lauderdale\, Florida\, 33315
CATEGORIES:FAB Grantee Program,FAB Member Event,Purchase Event Tickets
ATTACH;FMTTYPE=image/webp:https://fundingartsbroward.org/wp-content/uploads/2026/03/Website-Events-1-1-scaled-1-e1774467826639.webp
END:VEVENT
BEGIN:VEVENT
DTSTART;TZID=UTC:20260516T190000
DTEND;TZID=UTC:20260516T210000
DTSTAMP:20260421T140407
CREATED:20260325T200244Z
LAST-MODIFIED:20260326T173915Z
UID:10000562-1778958000-1778965200@fundingartsbroward.org
SUMMARY:FAB Grantee Program: Florida Singing Sons Presents: 2026 Spring Pops Concert
DESCRIPTION:The “2026 SPRING POPS CONCERT” will be the Florida Singing Sons (FSS) culminating performance of artistic/professional achievement for the year at Sunshine Cathedral in Fort Lauderdale. Attendees will embark on a journey across a broad spectrum representing all four FSS choirs. The program begins with beloved standards from the choral repertoire and additional selections that will be performed during our Summer Tour. The second half of the program will feature a semi-staged Broadway Medley. \nWhere:\nSunshine Cathedral\n1480 SW 9th Ave\nFort Lauderdale\, FL 33315\nWhen:\nSaturday\, May 16\, 2026 at 7:00pm\nCost:\n$10-$50\nTickets:\nTicket prices vary. CLICK HERE to purchase with Florida Singing Sons
URL:https://fundingartsbroward.org/event/fab-grantee-program-florida-singing-sons-presents-50th-spring-pops-concert/
LOCATION:Sunshine Cathedral\, 1480 SW 9th Ave\, Fort Lauderdale\, Florida\, 33315
CATEGORIES:FAB Grantee Program,FAB Member Event,Purchase Event Tickets
ATTACH;FMTTYPE=image/png:https://fundingartsbroward.org/wp-content/uploads/2026/03/iPITqwCwG0TGIzB3KFox9RmyLxTJflUgsguvR1yB-e1774468930983.png
END:VEVENT
END:VCALENDAR